BEGIN:VCALENDAR
VERSION:2.0
PRODID:-//SPCA Tampa Bay - ECPv6.15.20//NONSGML v1.0//EN
CALSCALE:GREGORIAN
METHOD:PUBLISH
X-WR-CALNAME:SPCA Tampa Bay
X-ORIGINAL-URL:https://spcatampabay.org
X-WR-CALDESC:Events for SPCA Tampa Bay
REFRESH-INTERVAL;VALUE=DURATION:PT1H
X-Robots-Tag:noindex
X-PUBLISHED-TTL:PT1H
BEGIN:VTIMEZONE
TZID:America/New_York
BEGIN:DAYLIGHT
TZOFFSETFROM:-0500
TZOFFSETTO:-0400
TZNAME:EDT
DTSTART:20250309T070000
END:DAYLIGHT
BEGIN:STANDARD
TZOFFSETFROM:-0400
TZOFFSETTO:-0500
TZNAME:EST
DTSTART:20251102T060000
END:STANDARD
BEGIN:DAYLIGHT
TZOFFSETFROM:-0500
TZOFFSETTO:-0400
TZNAME:EDT
DTSTART:20260308T070000
END:DAYLIGHT
BEGIN:STANDARD
TZOFFSETFROM:-0400
TZOFFSETTO:-0500
TZNAME:EST
DTSTART:20261101T060000
END:STANDARD
BEGIN:DAYLIGHT
TZOFFSETFROM:-0500
TZOFFSETTO:-0400
TZNAME:EDT
DTSTART:20270314T070000
END:DAYLIGHT
BEGIN:STANDARD
TZOFFSETFROM:-0400
TZOFFSETTO:-0500
TZNAME:EST
DTSTART:20271107T060000
END:STANDARD
END:VTIMEZONE
BEGIN:VEVENT
DTSTART;TZID=America/New_York:20260324T140000
DTEND;TZID=America/New_York:20260324T160000
DTSTAMP:20260421T080913
CREATED:20260318T180414Z
LAST-MODIFIED:20260318T180414Z
UID:13197-1774360800-1774368000@spcatampabay.org
SUMMARY:Pebbles Food Bank
DESCRIPTION:Caring for your pet shouldn’t be a challenge\, and we’re here to lend a hand. Dedicated to Pebbles and the thousands of other animals served by SPCA Tampa Bay each year\, our food bank provides free pet food to the cats and dogs of Pinellas County residents facing an unexpected financial hardship. \nIf you are planning to pick up canned food\, please bring plastic grocery bags to transport the food home. \nPlease call ahead\nPlease call ahead to ensure we have adequate food stocks to meet your needs. If you need food for animals other than dogs and cats\, please let us know so we can stock it at Pebbles Food Bank. \n727-324-4999\n 
URL:https://spcatampabay.org/event/pebbles-food-bank/
LOCATION:SPCA Tampa Bay\, 9099 130th Ave N\, Largo\, FL\, 33773\, United States
END:VEVENT
BEGIN:VEVENT
DTSTART;TZID=America/New_York:20260328T080000
DTEND;TZID=America/New_York:20260328T120000
DTSTAMP:20260421T080913
CREATED:20260119T201208Z
LAST-MODIFIED:20260317T182633Z
UID:13086-1774684800-1774699200@spcatampabay.org
SUMMARY:35th Annual Pet Walk
DESCRIPTION:Join fellow pet lovers and their furry (and not-so-furry) friends at SPCA Tampa Bay’s 35th Annual Pet Walk\, the organization’s largest community fundraiser\, on Saturday\, March 28 from 8 a.m. to 12 p.m.  \nEnjoy live entertainment\, costume contests\, dachshund races in partnership with Florida Wiener Dog Derby\, giveaways\, delicious food and unique vendors before starting the walk at 10 a.m. \nThrough Pet Walk\, individuals and teams raise critical funds through friends\, family\, and colleagues to support SPCA Tampa Bay’s lifesaving programs. With a donation of $30\, participants receive a Pet Walk t-shirt\, tote bag\, pet bandana\, and leash as a thank-you for their support. \nPet Walk is a fun and meaningful way to make a difference for animals and the people who love them. Register today to walk with your pet\, cheer on participants\, or join a team to take part in Pet Walk. \nEvery dollar raised benefits SPCA Tampa Bay\, the only For-All animal shelter in Pinellas County\, supporting programs such as the pet food bank\, vaccine clinics\, sheltering\, and veterinary care for thousands of animals every year. \nRegistration is free. Get your pack together and start fundraising today! 
URL:https://spcatampabay.org/event/35th-annual-pet-walk/
LOCATION:SPCA Tampa Bay\, 9099 130th Ave N\, Largo\, FL\, 33773\, United States
END:VEVENT
BEGIN:VEVENT
DTSTART;TZID=America/New_York:20260331T140000
DTEND;TZID=America/New_York:20260331T160000
DTSTAMP:20260421T080913
CREATED:20260318T180515Z
LAST-MODIFIED:20260318T180515Z
UID:13200-1774965600-1774972800@spcatampabay.org
SUMMARY:Pebbles Food Bank
DESCRIPTION:Caring for your pet shouldn’t be a challenge\, and we’re here to lend a hand. Dedicated to Pebbles and the thousands of other animals served by SPCA Tampa Bay each year\, our food bank provides free pet food to the cats and dogs of Pinellas County residents facing an unexpected financial hardship. \nIf you are planning to pick up canned food\, please bring plastic grocery bags to transport the food home. \nPlease call ahead\nPlease call ahead to ensure we have adequate food stocks to meet your needs. If you need food for animals other than dogs and cats\, please let us know so we can stock it at Pebbles Food Bank. \n727-324-4999\n 
URL:https://spcatampabay.org/event/pebbles-food-bank-2/
LOCATION:SPCA Tampa Bay\, 9099 130th Ave N\, Largo\, FL\, 33773\, United States
END:VEVENT
END:VCALENDAR