BEGIN:VCALENDAR
VERSION:2.0
PRODID:-//SPCA Tampa Bay - ECPv6.15.20//NONSGML v1.0//EN
CALSCALE:GREGORIAN
METHOD:PUBLISH
X-WR-CALNAME:SPCA Tampa Bay
X-ORIGINAL-URL:https://spcatampabay.org
X-WR-CALDESC:Events for SPCA Tampa Bay
REFRESH-INTERVAL;VALUE=DURATION:PT1H
X-Robots-Tag:noindex
X-PUBLISHED-TTL:PT1H
BEGIN:VTIMEZONE
TZID:America/New_York
BEGIN:DAYLIGHT
TZOFFSETFROM:-0500
TZOFFSETTO:-0400
TZNAME:EDT
DTSTART:20240310T070000
END:DAYLIGHT
BEGIN:STANDARD
TZOFFSETFROM:-0400
TZOFFSETTO:-0500
TZNAME:EST
DTSTART:20241103T060000
END:STANDARD
BEGIN:DAYLIGHT
TZOFFSETFROM:-0500
TZOFFSETTO:-0400
TZNAME:EDT
DTSTART:20250309T070000
END:DAYLIGHT
BEGIN:STANDARD
TZOFFSETFROM:-0400
TZOFFSETTO:-0500
TZNAME:EST
DTSTART:20251102T060000
END:STANDARD
BEGIN:DAYLIGHT
TZOFFSETFROM:-0500
TZOFFSETTO:-0400
TZNAME:EDT
DTSTART:20260308T070000
END:DAYLIGHT
BEGIN:STANDARD
TZOFFSETFROM:-0400
TZOFFSETTO:-0500
TZNAME:EST
DTSTART:20261101T060000
END:STANDARD
END:VTIMEZONE
BEGIN:VEVENT
DTSTART;TZID=America/New_York:20250801T130000
DTEND;TZID=America/New_York:20250807T180000
DTSTAMP:20260421T205421
CREATED:20250729T190932Z
LAST-MODIFIED:20250730T171924Z
UID:12697-1754053200-1754589600@spcatampabay.org
SUMMARY:Clear the Shelters 2025 Week 1: FEE WAIVED CAT & CRITTER ADOPTIONS
DESCRIPTION:SPCA Tampa Bay is celebrating 11 years of Clear the Shelters with a month of special adoption promotions! Beginning on Friday\, August 1 through Thursday\, August 7\, the first 30 cats/kittens\, small animals\, reptiles\, and livestock to be adopted will be fee-waived. Once the first 30 animals have gone home\, all remaining cats\, small animals\, reptiles\, and livestock can be adopted for half of their adoption fees for the remainder of the week. There are currently over 50 cat and kitten companions\, and over 20 small animals\, reptiles\, and livestock at SPCA Tampa Bay awaiting their forever homes. This is the first week of multiple Clear the Shelters adoption promotions running throughout the month of August! Keep an eye on our website and social media for upcoming events \n  \nVIEW ADOPTABLE CATS & KITTENS \nVIEW ADOPTABLE SMALL ANIMALS\, REPTILES & LIVESTOCK
URL:https://spcatampabay.org/event/cts2025-week-1/
LOCATION:SPCA Tampa Bay\, 9099 130th Ave N\, Largo\, FL\, 33773\, United States
ATTACH;FMTTYPE=image/jpeg:https://spcatampabay.org/wp-content/uploads/Clear-the-Shelters-2025-1.jpg
END:VEVENT
BEGIN:VEVENT
DTSTART;TZID=America/New_York:20250808T130000
DTEND;TZID=America/New_York:20250814T180000
DTSTAMP:20260421T205421
CREATED:20250806T140542Z
LAST-MODIFIED:20250806T140630Z
UID:12735-1754658000-1755194400@spcatampabay.org
SUMMARY:Clear the Shelters 2025 Week 2: FEE WAIVED DOG ADOPTIONS
DESCRIPTION:SPCA Tampa Bay is celebrating 11 years of Clear the Shelters with a month of special adoption promotions! On Friday\, August 8 through Thursday\, August 14\, the first 20 dogs and/or puppies adopted will be fee-waived. Once the first 20 dogs have gone home\, all remaining dogs and puppies can be adopted for half of their adoption fees for the remainder of the week. There are currently over 25 dogs at SPCA Tampa Bay awaiting their forever homes. Learn more at spcatampabay.org. This is the second week of multiple Clear the Shelters adoption promotions running throughout the month of August! Keep an eye on our website and social media for upcoming events. The nationwide pet adoption and donation campaign from NBCUniversal Local is returning for the 11th straight year this August. \nVIEW ADOPTABLE DOGS
URL:https://spcatampabay.org/event/clear-the-shelters-2025-week-2-fee-waived-dog-adoptions/
LOCATION:SPCA Tampa Bay\, 9099 130th Ave N\, Largo\, FL\, 33773\, United States
ATTACH;FMTTYPE=image/jpeg:https://spcatampabay.org/wp-content/uploads/Clear-the-Shelters-2025-4.jpg
END:VEVENT
BEGIN:VEVENT
DTSTART;TZID=America/New_York:20250815T130000
DTEND;TZID=America/New_York:20250822T180000
DTSTAMP:20260421T205421
CREATED:20250813T220052Z
LAST-MODIFIED:20250813T220300Z
UID:12759-1755262800-1755885600@spcatampabay.org
SUMMARY:Clear the Shelters 2025 Week 3: FEES WAIVED for ALL Animals 2 years+
DESCRIPTION:SPCA Tampa Bay is celebrating 11 years of Clear the Shelters with a month of special adoption promotions! Beginning on Friday\, August 15 through Friday\, August 22\, all animals 2 years and older will be fee-waived. There are currently over 30 adult cats\, small animals and dogs at SPCA Tampa Bay awaiting their forever homes. This is the third week of multiple Clear the Shelters adoption promotions running throughout the month of August! Keep an eye on our website and social media for upcoming events \n  \nVIEW ADOPTABLE DOGS \nVIEW ADOPTABLE CATS & KITTENS \nVIEW ADOPTABLE SMALL ANIMALS & REPTILES
URL:https://spcatampabay.org/event/clear-the-shelters-2025-week-3-fees-waived-for-all-animals-2-years/
LOCATION:SPCA Tampa Bay\, 9099 130th Ave N\, Largo\, FL\, 33773\, United States
ATTACH;FMTTYPE=image/jpeg:https://spcatampabay.org/wp-content/uploads/Clear-the-Shelters-2025-6.jpg
END:VEVENT
BEGIN:VEVENT
DTSTART;TZID=America/New_York:20250823T100000
DTEND;TZID=America/New_York:20250823T170000
DTSTAMP:20260421T205421
CREATED:20250821T213019Z
LAST-MODIFIED:20250821T221130Z
UID:12772-1755943200-1755968400@spcatampabay.org
SUMMARY:Clear the Shelters Crescendo: All Adoption Fees Waived!
DESCRIPTION:SPCA Tampa Bay is celebrating 11 years of Clear the Shelters with a month of special adoption promotions! Our celebration comes to a close on Saturday\, Aug 23\,  when ALL animals will be fee-waived. There are currently 23 cats and kittens\, 15 small animals and 34 dogs and puppies at SPCA Tampa Bay awaiting their forever homes.  \nNOTE: If you have young members in your family and other pets like dogs\, please make arrangements for them to meet your new adoptable pet at SPCA Tampa Bay. If you plan to bring your own dog for a meet and greet with a shelter pup\, please be sure to have at least two adults in your party to allow everyone in your group a chance to meet the shelter dog one-on-one before introducing the dogs. There will be a limit of one dog introduction per party to accommodate all adopters that day. All adopted animals must leave the shelter properly contained\, so please come prepared with a leash and collar or carrier for your new friend. These items will also be available for purchase in our gift shop as needed. \nVIEW ADOPTABLE DOGS & PUPPIES \nVIEW ADOPTABLE CATS & KITTENS \nVIEW ADOPTABLE SMALL ANIMALS & REPTILES
URL:https://spcatampabay.org/event/clear-the-shelters-crescendo-all-adoption-fees-waived/
LOCATION:SPCA Tampa Bay\, 9099 130th Ave N\, Largo\, FL\, 33773\, United States
ATTACH;FMTTYPE=image/jpeg:https://spcatampabay.org/wp-content/uploads/Clear-the-Shelters-2025-8-e1755812412674.jpg
END:VEVENT
BEGIN:VEVENT
DTSTART;TZID=America/New_York:20250826T080000
DTEND;TZID=America/New_York:20250831T170000
DTSTAMP:20260421T205421
CREATED:20250826T181620Z
LAST-MODIFIED:20250826T183518Z
UID:12789-1756195200-1756659600@spcatampabay.org
SUMMARY:Clear the Shelters Continued...Select animals FEE-WAIVED
DESCRIPTION:Our Clear the Shelters fun will continue through the end of the month! Now through Sunday\, August 31\, the following animals will be FEE-WAIVED \n  \n \n  \nVIEW ADOPTABLE DOGS \nVIEW ADOPTABLE CATS & KITTENS \nVIEW ADOPTABLE SMALL ANIMALS & REPTILES
URL:https://spcatampabay.org/event/clear-the-shelters-continued-select-animals-fee-waived/
LOCATION:SPCA Tampa Bay\, 9099 130th Ave N\, Largo\, FL\, 33773\, United States
ATTACH;FMTTYPE=image/jpeg:https://spcatampabay.org/wp-content/uploads/Clear-the-Shelters-2025-11.jpg
END:VEVENT
END:VCALENDAR