BEGIN:VCALENDAR
VERSION:2.0
PRODID:-//SPCA Tampa Bay - ECPv6.15.20//NONSGML v1.0//EN
CALSCALE:GREGORIAN
METHOD:PUBLISH
X-ORIGINAL-URL:https://spcatampabay.org
X-WR-CALDESC:Events for SPCA Tampa Bay
REFRESH-INTERVAL;VALUE=DURATION:PT1H
X-Robots-Tag:noindex
X-PUBLISHED-TTL:PT1H
BEGIN:VTIMEZONE
TZID:America/New_York
BEGIN:DAYLIGHT
TZOFFSETFROM:-0500
TZOFFSETTO:-0400
TZNAME:EDT
DTSTART:20240310T070000
END:DAYLIGHT
BEGIN:STANDARD
TZOFFSETFROM:-0400
TZOFFSETTO:-0500
TZNAME:EST
DTSTART:20241103T060000
END:STANDARD
BEGIN:DAYLIGHT
TZOFFSETFROM:-0500
TZOFFSETTO:-0400
TZNAME:EDT
DTSTART:20250309T070000
END:DAYLIGHT
BEGIN:STANDARD
TZOFFSETFROM:-0400
TZOFFSETTO:-0500
TZNAME:EST
DTSTART:20251102T060000
END:STANDARD
BEGIN:DAYLIGHT
TZOFFSETFROM:-0500
TZOFFSETTO:-0400
TZNAME:EDT
DTSTART:20260308T070000
END:DAYLIGHT
BEGIN:STANDARD
TZOFFSETFROM:-0400
TZOFFSETTO:-0500
TZNAME:EST
DTSTART:20261101T060000
END:STANDARD
END:VTIMEZONE
BEGIN:VEVENT
DTSTART;TZID=America/New_York:20250613T130000
DTEND;TZID=America/New_York:20250615T170000
DTSTAMP:20260421T185032
CREATED:20250610T170013Z
LAST-MODIFIED:20250610T170257Z
UID:12525-1749819600-1750006800@spcatampabay.org
SUMMARY:Happy Paw-ther's Day! Half Off Pet Adoptions this Father’s Day Weekend
DESCRIPTION:This Father’s Day Weekend\, SPCA Tampa Bay is offering half off the price of adoptions for most animals at the shelter! This special promotion aims to help find special dads (or moms) for many of our adoptable dogs\, cats\, and small animals currently in our care. \nBeginning on Friday\, June 13 and running through Sunday\, June 15\, animals can be adopted for half their normal adoption fee to help even more animals find their new families. Adoption hours on Friday are from 1 p.m. – 6 p.m.\, Saturday from 10 a.m. – 6 p.m.\, and Sunday from 10 a.m. – 5 p.m. Animals 6 months and under are excluded from this promotion. \nIf you have two-legged or four-legged children at home already\, or you’re considering adopting a new pet\, now may be the perfect time to expand your family. There are currently 25 cats\, 35 dogs\, and 15 small animals available for adoption and awaiting a loving home. As a For-All shelter\, SPCA Tampa Bay accepts all animals regardless of the circumstance or situation. There are many reasons why an animal shelter receives animals\, and every single situation is unique. \nWe are so grateful to all fathers; including dads who foster shelter pets\, animal loving papas\, dads who volunteer to help shelter animals\, and of course\, all human fathers. \nView Adoptable Cats  View Adoptable Dogs   \nView Adoptable Small Animals \n  \nSPCA Tampa Bay is located at 9099 130th Avenue North\, Largo\, Florida 33773.
URL:https://spcatampabay.org/event/happy-pawthers-day/
LOCATION:SPCA Tampa Bay\, 9099 130th Ave N\, Largo\, FL\, 33773\, United States
ATTACH;FMTTYPE=image/png:https://spcatampabay.org/wp-content/uploads/Paw-thers-Day-Facebook-Cover.png
END:VEVENT
BEGIN:VEVENT
DTSTART;TZID=America/New_York:20250614T090000
DTEND;TZID=America/New_York:20250614T120000
DTSTAMP:20260421T185032
CREATED:20250528T154206Z
LAST-MODIFIED:20250609T134631Z
UID:12477-1749891600-1749902400@spcatampabay.org
SUMMARY:Community Pet Vaccine Clinic
DESCRIPTION:SPCA Tampa Bay is pleased to provide accessible vaccine and microchip services to our community. We host regular vaccine clinics at our Largo animal shelter campus. We offer the following services\, and fees are WAIVED with proof of government assistance. \nDOGS – Rabies $20\, DHPP $20\, and Microchips $20 \nCATS – Rabies $20\, FVRCP $20\, and Microchips $20 \n  \nRegister Today!
URL:https://spcatampabay.org/event/community-pet-vaccine-clinic/
LOCATION:SPCA Tampa Bay\, 9099 130th Ave N\, Largo\, FL\, 33773\, United States
ATTACH;FMTTYPE=image/jpeg:https://spcatampabay.org/wp-content/uploads/unnamed-file-5.jpg
END:VEVENT
BEGIN:VEVENT
DTSTART;TZID=America/New_York:20250620T130000
DTEND;TZID=America/New_York:20250620T180000
DTSTAMP:20260421T185032
CREATED:20250619T171010Z
LAST-MODIFIED:20250619T171257Z
UID:12562-1750424400-1750442400@spcatampabay.org
SUMMARY:Summer Solstice Adoption Event
DESCRIPTION:Find your “sol-mate” this Summer Solstice! On Friday\, June 20\, adoption fees for select pets will be WAIVED! Over 30 staff favorites will be able to be adopted with no fee during this event.  \nEligible Dogs \n\n	Ryker\n	Mocha Bean\n	Biggy\n	Shawnty\n	Rowdy\n	Sailor\n	Zeus\n	Denver\n	Abe\n	Raddish\n	Buster\n	Dunkan\n	Nala\n	Chloe\n	Lucky\n\nEligible Cats \n\n	Tigger\n	Coco\n	Spicy\n	Piper\n	Potato\n	Cucumber\n	Sunnie\n\nEligible Pocket Pets \n\n	Morris\n	Raymond\n	Thunderbug\n	Lilly\n	Daisy\n	Spot\n	Masha\n	Maximus\n	Brownie\n\nView Adoptable Cats  View Adoptable Dogs   \nView Adoptable Small Animals \nSPCA Tampa Bay is located at 9099 130th Avenue North\, Largo\, Florida 33773.
URL:https://spcatampabay.org/event/summer-solstice-adoption-event/
LOCATION:SPCA Tampa Bay\, 9099 130th Ave N\, Largo\, FL\, 33773\, United States
END:VEVENT
END:VCALENDAR