BEGIN:VCALENDAR
VERSION:2.0
PRODID:-//SPCA Tampa Bay - ECPv6.15.20//NONSGML v1.0//EN
CALSCALE:GREGORIAN
METHOD:PUBLISH
X-WR-CALNAME:SPCA Tampa Bay
X-ORIGINAL-URL:https://spcatampabay.org
X-WR-CALDESC:Events for SPCA Tampa Bay
REFRESH-INTERVAL;VALUE=DURATION:PT1H
X-Robots-Tag:noindex
X-PUBLISHED-TTL:PT1H
BEGIN:VTIMEZONE
TZID:America/New_York
BEGIN:DAYLIGHT
TZOFFSETFROM:-0500
TZOFFSETTO:-0400
TZNAME:EDT
DTSTART:20240310T070000
END:DAYLIGHT
BEGIN:STANDARD
TZOFFSETFROM:-0400
TZOFFSETTO:-0500
TZNAME:EST
DTSTART:20241103T060000
END:STANDARD
BEGIN:DAYLIGHT
TZOFFSETFROM:-0500
TZOFFSETTO:-0400
TZNAME:EDT
DTSTART:20250309T070000
END:DAYLIGHT
BEGIN:STANDARD
TZOFFSETFROM:-0400
TZOFFSETTO:-0500
TZNAME:EST
DTSTART:20251102T060000
END:STANDARD
BEGIN:DAYLIGHT
TZOFFSETFROM:-0500
TZOFFSETTO:-0400
TZNAME:EDT
DTSTART:20260308T070000
END:DAYLIGHT
BEGIN:STANDARD
TZOFFSETFROM:-0400
TZOFFSETTO:-0500
TZNAME:EST
DTSTART:20261101T060000
END:STANDARD
END:VTIMEZONE
BEGIN:VEVENT
DTSTART;TZID=America/New_York:20250503T110000
DTEND;TZID=America/New_York:20250503T123000
DTSTAMP:20260421T170200
CREATED:20250320T204834Z
LAST-MODIFIED:20250418T172559Z
UID:12104-1746270000-1746275400@spcatampabay.org
SUMMARY:SPCA Tampa Bay's Catsino!
DESCRIPTION:Join us for our CATSINO on Saturday\, May 3 at Studio 131. SPCA Tampa Bay’s first-ever Catsino will be complete with casino games\, food\, mocktails\, a silent auction and\, of course\, kittens! Guests of all ages are encouraged to attend. Guests who bring an item from our Foster wish list will be entered into a drawing for a chance to win a paw-some prize! All proceeds from the event will benefit our shelter’s Foster Program and allow the shelter to continue to provide life-changing care to animals in need.  \n  \nGet Your Ticket Today!
URL:https://spcatampabay.org/event/catsino/
LOCATION:Studio 131\, 11803 104th St\, Largo\, FL\, 33773\, United States
ATTACH;FMTTYPE=image/png:https://spcatampabay.org/wp-content/uploads/BOTH-LOCATIONS-Catsino-2.png
END:VEVENT
BEGIN:VEVENT
DTSTART;TZID=America/New_York:20250509T130000
DTEND;TZID=America/New_York:20250511T180000
DTSTAMP:20260421T170200
CREATED:20250508T154002Z
LAST-MODIFIED:20250508T181730Z
UID:12303-1746795600-1746986400@spcatampabay.org
SUMMARY:Paws & Petals: Half Off All Pet Adoptions this Mother's Day Weekend at SPCA Tampa Bay
DESCRIPTION:This Mother’s Day Weekend\, SPCA Tampa Bay is offering a special discount of half off the price of adoptions for all animals at the shelter! This is in hopes to help find special moms (or dads!) for many of our adoptable dogs\, cats\, and small animals currently in our care. \nBeginning on Friday\, May 9 and running through Sunday\, May 11\, all animals can be adopted for half their normal adoption fee to help even more animals find their new families. Adoption hours on Friday are from 1 p.m. – 6 p.m. and on Saturday and Sunday from 10 a.m. – 6 p.m. \nThis adoption promotion was inspired by our appreciation for all mothers! We are so grateful to all of our foster animal mamas\, all pet loving moms\, and of course\, all human mothers. If you have two-legged or four-legged children at home already\, or you’re considering adopting a new pet\, now may be the perfect time to expand your family. \nThere are currently 20 cats\, 40 dogs\, and 15 small animals available for adoption and awaiting a loving home. As a For-All shelter\, SPCA Tampa Bay accepts all animals regardless of the circumstance or situation. There are many reasons why an animal shelter receives animals\, and every single situation is unique. \nView Adoptable Cats  View Adoptable Dogs   \nView Adoptable Small Animals \nSPCA Tampa Bay is located at 9099 130th Avenue North\, Largo\, Florida 33773.
URL:https://spcatampabay.org/event/mothers-day/
LOCATION:SPCA Tampa Bay\, 9099 130th Ave N\, Largo\, FL\, 33773\, United States
ATTACH;FMTTYPE=image/jpeg:https://spcatampabay.org/wp-content/uploads/Mothers-day-Adoption-Event-2025-Presentation.jpg
END:VEVENT
BEGIN:VEVENT
DTSTART;TZID=America/New_York:20250524T143000
DTEND;TZID=America/New_York:20250524T173000
DTSTAMP:20260421T170200
CREATED:20250506T155437Z
LAST-MODIFIED:20250512T154030Z
UID:12278-1748097000-1748107800@spcatampabay.org
SUMMARY:Barks & Bubbles
DESCRIPTION:Barks & Bubbles | The Karol Hotel \nGet ready for a paw-some event at The Karol Hotel in St. Petersburg Clearwater\, benefitting SPCA Tampa Bay! \nJoin us on Sat May 24 at 2:30PM for a fun-filled day of barks & bubbles. Please CLICK HERE to secure your tickets today! \nEvent Description: \nJoin us for a delightful afternoon on our covered lakeside patio\, where we celebrate and support SPCA Tampa Bay. Enjoy the warm Clearwater weather\, with temperatures around 86°F\, and the comfort of outdoor fans. \nHighlights: \n\n	Complimentary Bubbles & Champagne: Toast to a great cause with complimentary bubbles and champagne.\n	Satellite Bar: Available with soft drinks\, water\, and single mix liquors. Please note\, no craft cocktails will be served.\n	Upscale Casual Attire: Dress comfortably yet stylishly in upscale casual attire suitable for the warm weather. – Please note this is a standing mixer\, not a seated event\, so please ensure that you are wearing comfortable shoes\n\nProceeds to SPCA Tampa Bay: \n\n	100% of Raffle Ticket Proceeds\n	100% of Silent Auction Proceeds\n	$15 of Every Admission Tickets\n\nThe goal of this event is to raise at least $3\,000 in total contributions for SPCA Tampa Bay. The remaining funds from admission tickets will directly cover food and staff labor costs. \nImportant Notes: \nPets Policy: No pets or emotional support animals allowed. \nOnly ADA-registered service animals are permitted. \nTicket Information:  \nGeneral Admission tickets are $20 and VIP tickets are $40. \nTo purchase tickets\, please visit: \nhttps://www.eventbrite.com/e/barks-bubbles-the-karol-hotel-tickets-1342759462699\n  \n 
URL:https://spcatampabay.org/event/barks-bubbles/
LOCATION:The Karol Hotel\, 2675 Ulmerton Rd\, Clearwater\, FL\, 33762\, United States
END:VEVENT
END:VCALENDAR