BEGIN:VCALENDAR
VERSION:2.0
PRODID:-//SPCA Tampa Bay - ECPv6.15.20//NONSGML v1.0//EN
CALSCALE:GREGORIAN
METHOD:PUBLISH
X-ORIGINAL-URL:https://spcatampabay.org
X-WR-CALDESC:Events for SPCA Tampa Bay
REFRESH-INTERVAL;VALUE=DURATION:PT1H
X-Robots-Tag:noindex
X-PUBLISHED-TTL:PT1H
BEGIN:VTIMEZONE
TZID:America/New_York
BEGIN:DAYLIGHT
TZOFFSETFROM:-0500
TZOFFSETTO:-0400
TZNAME:EDT
DTSTART:20240310T070000
END:DAYLIGHT
BEGIN:STANDARD
TZOFFSETFROM:-0400
TZOFFSETTO:-0500
TZNAME:EST
DTSTART:20241103T060000
END:STANDARD
BEGIN:DAYLIGHT
TZOFFSETFROM:-0500
TZOFFSETTO:-0400
TZNAME:EDT
DTSTART:20250309T070000
END:DAYLIGHT
BEGIN:STANDARD
TZOFFSETFROM:-0400
TZOFFSETTO:-0500
TZNAME:EST
DTSTART:20251102T060000
END:STANDARD
BEGIN:DAYLIGHT
TZOFFSETFROM:-0500
TZOFFSETTO:-0400
TZNAME:EDT
DTSTART:20260308T070000
END:DAYLIGHT
BEGIN:STANDARD
TZOFFSETFROM:-0400
TZOFFSETTO:-0500
TZNAME:EST
DTSTART:20261101T060000
END:STANDARD
END:VTIMEZONE
BEGIN:VEVENT
DTSTART;TZID=America/New_York:20250306T170000
DTEND;TZID=America/New_York:20250306T190000
DTSTAMP:20260421T131908
CREATED:20250226T161416Z
LAST-MODIFIED:20250226T161634Z
UID:12045-1741280400-1741287600@spcatampabay.org
SUMMARY:Yappy Hour at Doc Ford's Rum Bar & Grille
DESCRIPTION:Grab your pup and join us at Doc Ford’s Jungle Terrace for a Yappy Hour on March 6! Everyone who signs up for Pet Walk during Yappy Hour will receive one FREE Island Mojito. 
URL:https://spcatampabay.org/event/yappy-hour-at-doc-fords/
LOCATION:Doc Ford’s Rum Bar and Grille\, 8790 Bay Pines Blvd\, St. Petersburg\, FL\, 33709\, United States
ATTACH;FMTTYPE=image/jpeg:https://spcatampabay.org/wp-content/uploads/Doc-Fords.jpg
END:VEVENT
BEGIN:VEVENT
DTSTART;TZID=America/New_York:20250313T110000
DTEND;TZID=America/New_York:20250313T130000
DTSTAMP:20260421T131908
CREATED:20250226T184750Z
LAST-MODIFIED:20250226T185333Z
UID:12057-1741863600-1741870800@spcatampabay.org
SUMMARY:Yappy Hour at Driftwood Cafe
DESCRIPTION:Grab your pup and join us for Yappy Hour at Driftwood Cafe. $1 from every pup cup sold during Yappy Hour will be donated to SPCA Tampa Bay to help animals in need!
URL:https://spcatampabay.org/event/yappy-hour-at-driftwood-cafe/
LOCATION:Driftwood Cafe\, 800 2nd Ave NE Ground Floor\, St. Petersburg\, FL\, 33701\, United States
ATTACH;FMTTYPE=image/jpeg:https://spcatampabay.org/wp-content/uploads/Driftwood.jpg
END:VEVENT
BEGIN:VEVENT
DTSTART;TZID=America/New_York:20250314T160000
DTEND;TZID=America/New_York:20250314T180000
DTSTAMP:20260421T131908
CREATED:20250226T162025Z
LAST-MODIFIED:20250226T162442Z
UID:12051-1741968000-1741975200@spcatampabay.org
SUMMARY:Yappy Hour at Barks And Brews
DESCRIPTION:Grab your pup and join us for a Yappy Hour at Barks and Brews! Everyone who signs up for Pet Walk during the Yappy Hour will receive $1 off a beer!
URL:https://spcatampabay.org/event/yappy-hour-at-barks-and-brews/
LOCATION:Barks and Brews\, 14219 Walsingham Rd Suite K\, Largo\, Fl\, 33774
ATTACH;FMTTYPE=image/jpeg:https://spcatampabay.org/wp-content/uploads/Barks-and-Brews.jpg
END:VEVENT
BEGIN:VEVENT
DTSTART;TZID=America/New_York:20250320T170000
DTEND;TZID=America/New_York:20250320T190000
DTSTAMP:20260421T131908
CREATED:20250226T185856Z
LAST-MODIFIED:20250226T185856Z
UID:12062-1742490000-1742497200@spcatampabay.org
SUMMARY:Yappy Hour at Green Bench Brewing
DESCRIPTION:Grab your pup and join us for Yappy Hour at Green Bench Brewing! $1 from each core beer sold  during Yappy Hour will be donated to help the animals at SPCA Tampa Bay!
URL:https://spcatampabay.org/event/yappy-hour-at-green-bench-brewing/
LOCATION:Green Bench Brewing\, 1133 Baum Ave N\, St. Petersburg\, FL\, 33705\, United States
ATTACH;FMTTYPE=image/jpeg:https://spcatampabay.org/wp-content/uploads/Green-BenchFords.jpg
END:VEVENT
BEGIN:VEVENT
DTSTART;TZID=America/New_York:20250329T083000
DTEND;TZID=America/New_York:20250329T120000
DTSTAMP:20260421T131908
CREATED:20250128T144559Z
LAST-MODIFIED:20250128T144705Z
UID:11992-1743237000-1743249600@spcatampabay.org
SUMMARY:34th Annual SPCA Tampa Bay Pet Walk
DESCRIPTION:Join the hundreds of animal lovers who come out to Pet Walk and raise money for the animals at SPCA Tampa Bay! SPCA Tampa Bay is a non-profit\, animal welfare agency that runs an open-admission For-All animal shelter in Pinellas County. We care for dogs\, cats\, pocket pets\, exotic animals and livestock like goats and pigs. Animals receive immunizations\, medical care\, enrichment and loving care while they live at our animal shelter in Largo. Our facility is also home to a wildlife rehabilitation program that takes in hundreds of injured and orphaned wild animals every year and cares for them until they are ready to be released. So join or form a team with co-workers\, friends and family\, or join as a individual virtual walker and start raising money TODAY to help support our organization’s many programs that benefit the community. \n  \nJoin us in Largo or St. Petersburg! Your favorite pet event will be taking place in TWO LOCATIONS this year: \nNorth Straub Park\, St. Petersburg\, FL \nLargo Central Park\, Largo\, FL \nRegister today!
URL:https://spcatampabay.org/event/34th-annual-spca-tampa-bay-pet-walk/
LOCATION:FL
ATTACH;FMTTYPE=image/jpeg:https://spcatampabay.org/wp-content/uploads/Pet-Walk-2025-FB-event-cover.jpg
END:VEVENT
END:VCALENDAR