BEGIN:VCALENDAR
VERSION:2.0
PRODID:-//SPCA Tampa Bay - ECPv6.15.20//NONSGML v1.0//EN
CALSCALE:GREGORIAN
METHOD:PUBLISH
X-ORIGINAL-URL:https://spcatampabay.org
X-WR-CALDESC:Events for SPCA Tampa Bay
REFRESH-INTERVAL;VALUE=DURATION:PT1H
X-Robots-Tag:noindex
X-PUBLISHED-TTL:PT1H
BEGIN:VTIMEZONE
TZID:America/New_York
BEGIN:DAYLIGHT
TZOFFSETFROM:-0500
TZOFFSETTO:-0400
TZNAME:EDT
DTSTART:20240310T070000
END:DAYLIGHT
BEGIN:STANDARD
TZOFFSETFROM:-0400
TZOFFSETTO:-0500
TZNAME:EST
DTSTART:20241103T060000
END:STANDARD
BEGIN:DAYLIGHT
TZOFFSETFROM:-0500
TZOFFSETTO:-0400
TZNAME:EDT
DTSTART:20250309T070000
END:DAYLIGHT
BEGIN:STANDARD
TZOFFSETFROM:-0400
TZOFFSETTO:-0500
TZNAME:EST
DTSTART:20251102T060000
END:STANDARD
BEGIN:DAYLIGHT
TZOFFSETFROM:-0500
TZOFFSETTO:-0400
TZNAME:EDT
DTSTART:20260308T070000
END:DAYLIGHT
BEGIN:STANDARD
TZOFFSETFROM:-0400
TZOFFSETTO:-0500
TZNAME:EST
DTSTART:20261101T060000
END:STANDARD
END:VTIMEZONE
BEGIN:VEVENT
DTSTART;TZID=America/New_York:20250108T130000
DTEND;TZID=America/New_York:20250112T180000
DTSTAMP:20260421T095546
CREATED:20250106T142425Z
LAST-MODIFIED:20250106T145013Z
UID:11865-1736341200-1736704800@spcatampabay.org
SUMMARY:ADOPTION FEES WAIVED Hill's Welcome Home Adoption Event
DESCRIPTION:SPCA Tampa Bay is excited to participate in Hill’s Pet Nutrition’s “Welcome Home” adoption campaign\, a nationwide effort to help shelter pets find loving homes. As a Hill’s Food\, Shelter & Love program partner\, SPCA Tampa Bay is one of 13 shelters nationwide chosen to participate in the campaign.  \nTo help more pets find homes this new year\, from Wednesday\, January 8 through Sunday\, January 12\, Hill’s Pet Nutrition will cover the adoption fees for ALL adult animals (7 months and up) from SPCA Tampa Bay! Animals are vaccinated\, spayed/neutered and microchipped. \nIn addition to waived adoption fees\, adopters will receive high-value Hill’s Pet Nutrition coupons (while supplies last).
URL:https://spcatampabay.org/event/adoption-fees-waived-hills-welcome-home-adoption-event/
LOCATION:SPCA Tampa Bay\, 9099 130th Ave N\, Largo\, FL\, 33773\, United States
ATTACH;FMTTYPE=image/jpeg:https://spcatampabay.org/wp-content/uploads/Hills-Welcome-Home-Adoption-Event-Instagram-Post.jpg
END:VEVENT
BEGIN:VEVENT
DTSTART;TZID=America/New_York:20250111T090000
DTEND;TZID=America/New_York:20250111T120000
DTSTAMP:20260421T095546
CREATED:20250106T142612Z
LAST-MODIFIED:20250106T142821Z
UID:11868-1736586000-1736596800@spcatampabay.org
SUMMARY:January Community Pet Vaccine Clinic
DESCRIPTION:Learn More or Register NOW 
URL:https://spcatampabay.org/event/january-community-pet-vaccine-clinic/
LOCATION:SPCA Tampa Bay\, 9099 130th Ave N\, Largo\, FL\, 33773\, United States
ATTACH;FMTTYPE=image/jpeg:https://spcatampabay.org/wp-content/uploads/1-15-e1736173675999.jpg
END:VEVENT
BEGIN:VEVENT
DTSTART;TZID=America/New_York:20250123T173000
DTEND;TZID=America/New_York:20250123T193000
DTSTAMP:20260421T095546
CREATED:20241220T182516Z
LAST-MODIFIED:20250117T185632Z
UID:11795-1737653400-1737660600@spcatampabay.org
SUMMARY:Pet Walk Kick Off and Yappy Hour
DESCRIPTION:Join SPCA Tampa Bay on Thursday January 23\, from 5:30 – 7:30 p.m. for our Pet Walk Kick Off and Yappy Hour at Doc Ford’s Rum Bar & Grille (8790 Bay Pines Blvd\, St. Petersburg\, FL 33709)! Please CLICK HERE to reserve your spot. \nAlong with some great food\, yummy drinks\, and beautiful ambiance\, there will be fantastic door prizes including Dolphin cruises\, passes to Sunken Gardens\, Great Explorations\, and the Imagine Museum. \nPet Walk Captains will receive everything you need to rally your team and put the FUN in Fundraising with prizes YOU can award to get your team mates excited about competing for Top Dog! \nBonus: One team captain will win a Whiskers at Work to liven up their own company Pet Walk Kick Off! \nPlease CLICK HERE to RSVP!
URL:https://spcatampabay.org/event/pet-walk-kick-off-and-yappy-hour/
LOCATION:Doc Ford’s Rum Bar and Grille\, 8790 Bay Pines Blvd\, St. Petersburg\, FL\, 33709\, United States
END:VEVENT
END:VCALENDAR