BEGIN:VCALENDAR
VERSION:2.0
PRODID:-//SPCA Tampa Bay - ECPv6.15.20//NONSGML v1.0//EN
CALSCALE:GREGORIAN
METHOD:PUBLISH
X-ORIGINAL-URL:https://spcatampabay.org
X-WR-CALDESC:Events for SPCA Tampa Bay
REFRESH-INTERVAL;VALUE=DURATION:PT1H
X-Robots-Tag:noindex
X-PUBLISHED-TTL:PT1H
BEGIN:VTIMEZONE
TZID:America/New_York
BEGIN:DAYLIGHT
TZOFFSETFROM:-0500
TZOFFSETTO:-0400
TZNAME:EDT
DTSTART:20230312T070000
END:DAYLIGHT
BEGIN:STANDARD
TZOFFSETFROM:-0400
TZOFFSETTO:-0500
TZNAME:EST
DTSTART:20231105T060000
END:STANDARD
BEGIN:DAYLIGHT
TZOFFSETFROM:-0500
TZOFFSETTO:-0400
TZNAME:EDT
DTSTART:20240310T070000
END:DAYLIGHT
BEGIN:STANDARD
TZOFFSETFROM:-0400
TZOFFSETTO:-0500
TZNAME:EST
DTSTART:20241103T060000
END:STANDARD
BEGIN:DAYLIGHT
TZOFFSETFROM:-0500
TZOFFSETTO:-0400
TZNAME:EDT
DTSTART:20250309T070000
END:DAYLIGHT
BEGIN:STANDARD
TZOFFSETFROM:-0400
TZOFFSETTO:-0500
TZNAME:EST
DTSTART:20251102T060000
END:STANDARD
END:VTIMEZONE
BEGIN:VEVENT
DTSTART;TZID=America/New_York:20241120T130000
DTEND;TZID=America/New_York:20241201T180000
DTSTAMP:20260421T081950
CREATED:20241122T153330Z
LAST-MODIFIED:20241122T160328Z
UID:11619-1732107600-1733076000@spcatampabay.org
SUMMARY:Black Friday Adoption Event
DESCRIPTION:SPCA Tampa Bay is waiving adoption fees for cats and dogs 1 year or older during our Black Friday adoption event!  \nNov. 21-24\, Nov. 27\, and Nov. 29 – Dec. 1 adult cats and dogs can be adopted without a fee. There are currently over 80 cats and dogs looking for their forever homes.  \nView Adoptable Cats View Adoptable Dogs 
URL:https://spcatampabay.org/event/black-friday-adoption-event/
LOCATION:SPCA Tampa Bay\, 9099 130th Ave N\, Largo\, FL\, 33773\, United States
ATTACH;FMTTYPE=image/jpeg:https://spcatampabay.org/wp-content/uploads/BLACK-FRIDAY-Facebook-Cover.jpg
END:VEVENT
BEGIN:VEVENT
DTSTART;TZID=America/New_York:20241201T080000
DTEND;TZID=America/New_York:20241231T170000
DTSTAMP:20260421T081950
CREATED:20241129T174636Z
LAST-MODIFIED:20241129T174636Z
UID:11648-1733040000-1735664400@spcatampabay.org
SUMMARY:SPCA Tampa Bay's 5th Annual Day of Giving Giveathon
DESCRIPTION:SPCA Tampa Bay is dedicated to supporting our Tampa Bay community 365 days a year. This includes caring for companion animals who have been surrendered to our shelter\, distributing free pet food and vaccines to community members and their pets in need\, providing pet care education to students and adults in our community\, and rehabilitating injured\, displaced\, and orphaned wildlife. \nSPCA Tampa Bay needs your help during our 5th Annual Giving Campaign. This year’s Giveathon fundraising event will take place on December 5. All donations made during SPCA Tampa Bay’s Annual Giving Campaign will be DOUBLED to support our Tampa Bay community\, its pets\, homeless animals\, and injured wildlife.   \n  \nGIVE NOW
URL:https://spcatampabay.org/event/spca-tampa-bays-5th-annual-day-of-giving-giveathon/
LOCATION:SPCA Tampa Bay\, 9099 130th Ave N\, Largo\, FL\, 33773\, United States
ATTACH;FMTTYPE=image/jpeg:https://spcatampabay.org/wp-content/uploads/Day-of-Giving-Updated-Website-Header-Version-1.jpg
END:VEVENT
BEGIN:VEVENT
DTSTART;TZID=America/New_York:20241211T130000
DTEND;TZID=America/New_York:20241216T180000
DTSTAMP:20260421T081950
CREATED:20241210T053851Z
LAST-MODIFIED:20241210T171852Z
UID:11718-1733922000-1734372000@spcatampabay.org
SUMMARY:Silver Bells Adoption Promotion
DESCRIPTION:SPCA Tampa Bay’s Home for the Pawlidays\, a series of adoption promotions\, begins with “Silver Bells”!\nOn Wednesday\, December 11 through Sunday\, December 15\, adoption fees for dogs 5 years and up are only $50\, cats 5 years and up are only $25\, and pocket pets and livestock 5 years and up are only $5. \nView Adoptable Dogs  \nView Adoptable Cats \nView Adoptable Pocket Pets
URL:https://spcatampabay.org/event/silver-bells/
LOCATION:SPCA Tampa Bay\, 9099 130th Ave N\, Largo\, FL\, 33773\, United States
END:VEVENT
BEGIN:VEVENT
DTSTART;TZID=America/New_York:20241218T130000
DTEND;TZID=America/New_York:20241222T180000
DTSTAMP:20260421T081950
CREATED:20241217T194555Z
LAST-MODIFIED:20241217T210636Z
UID:11762-1734526800-1734890400@spcatampabay.org
SUMMARY:Home for the Pawlidays: Ornament Surprise!
DESCRIPTION:SPCA Tampa Bay’s Home for the Pawlidays\, a series of adoption promotions\, continues with our “Ornament Surprise”! Starting Wednesday\, December 18 through Sunday\, December 22\, all adopters will have the opportunity to select an ornament from our holiday tree\, which will have various surprises\, such as a fee waived adoption\, a free leash/collar\, free pet items\, or a dollar amount off their adoption. \nView Adoptable Cats  View Adoptable Dogs  View Adoptable Critters
URL:https://spcatampabay.org/event/home-for-the-pawlidays-ornament-surprise/
LOCATION:FL
ATTACH;FMTTYPE=image/jpeg:https://spcatampabay.org/wp-content/uploads/Zues-3.jpg
END:VEVENT
BEGIN:VEVENT
DTSTART;TZID=America/New_York:20241219T180000
DTEND;TZID=America/New_York:20241219T200000
DTSTAMP:20260421T081951
CREATED:20231206T201727Z
LAST-MODIFIED:20251208T192656Z
UID:9625-1734631200-1734638400@spcatampabay.org
SUMMARY:Deck the Paws at the Holiday Lights in Largo Central Park
DESCRIPTION:Deck the Paws with SPCA Tampa Bay at the Holiday Lights in Largo Central Park on Thursday\, December 19! Featuring a special photo opportunity for you and your pups with Santa Claus himself from 6-8pm! \nThis family-friendly annual tradition presented by the City of Largo features a truly spectacular holiday light display. Bring your pups to Largo Central Park for a holiday stroll through the beautiful lights and enjoy a variety of crafts and activities for all ages\, including a Ferris wheel and carousel\, a campfire\, and delicious food. Dogs are encouraged to attend this pet-friendly event\, but must be on a leash at all times. \nPark admission is free! There is a suggested donation of $5 for dog photos with Santa\, benefitting SPCA Tampa Bay.
URL:https://spcatampabay.org/event/deck-the-paws-2024/
LOCATION:Largo Central Park\, 101 Central Park Dr\, Largo\, FL\, 33771\, United States
ATTACH;FMTTYPE=image/jpeg:https://spcatampabay.org/wp-content/uploads/Deck-the-Paws-1920-x-1080-px.jpg
END:VEVENT
BEGIN:VEVENT
DTSTART;TZID=America/New_York:20241226T130000
DTEND;TZID=America/New_York:20241230T180000
DTSTAMP:20260421T081951
CREATED:20241223T200742Z
LAST-MODIFIED:20241223T200742Z
UID:11812-1735218000-1735581600@spcatampabay.org
SUMMARY:Year-End Fee Waived Adoption Event
DESCRIPTION:Year-End Fee Waived Adoption Event! Running from Thursday\, December 26 through Sunday\, December 29. \nAdoption fees waived on all animals over 7 months (puppies and kittens not included). \nView Adoptable Cats  View Adoptable Dogs  View Adoptable Critters
URL:https://spcatampabay.org/event/year-end-fee-waived-adoption-event/
LOCATION:SPCA Tampa Bay\, 9099 130th Ave N\, Largo\, FL\, 33773\, United States
END:VEVENT
END:VCALENDAR