BEGIN:VCALENDAR
VERSION:2.0
PRODID:-//SPCA Tampa Bay - ECPv6.15.20//NONSGML v1.0//EN
CALSCALE:GREGORIAN
METHOD:PUBLISH
X-ORIGINAL-URL:https://spcatampabay.org
X-WR-CALDESC:Events for SPCA Tampa Bay
REFRESH-INTERVAL;VALUE=DURATION:PT1H
X-Robots-Tag:noindex
X-PUBLISHED-TTL:PT1H
BEGIN:VTIMEZONE
TZID:America/New_York
BEGIN:DAYLIGHT
TZOFFSETFROM:-0500
TZOFFSETTO:-0400
TZNAME:EDT
DTSTART:20230312T070000
END:DAYLIGHT
BEGIN:STANDARD
TZOFFSETFROM:-0400
TZOFFSETTO:-0500
TZNAME:EST
DTSTART:20231105T060000
END:STANDARD
BEGIN:DAYLIGHT
TZOFFSETFROM:-0500
TZOFFSETTO:-0400
TZNAME:EDT
DTSTART:20240310T070000
END:DAYLIGHT
BEGIN:STANDARD
TZOFFSETFROM:-0400
TZOFFSETTO:-0500
TZNAME:EST
DTSTART:20241103T060000
END:STANDARD
BEGIN:DAYLIGHT
TZOFFSETFROM:-0500
TZOFFSETTO:-0400
TZNAME:EDT
DTSTART:20250309T070000
END:DAYLIGHT
BEGIN:STANDARD
TZOFFSETFROM:-0400
TZOFFSETTO:-0500
TZNAME:EST
DTSTART:20251102T060000
END:STANDARD
END:VTIMEZONE
BEGIN:VEVENT
DTSTART;TZID=America/New_York:20241115T130000
DTEND;TZID=America/New_York:20241117T180000
DTSTAMP:20260421T063149
CREATED:20241111T152916Z
LAST-MODIFIED:20241111T214051Z
UID:11554-1731675600-1731866400@spcatampabay.org
SUMMARY:Empty the Shelters Sponsored by Bissell Pet Foundation
DESCRIPTION:SPCA Tampa Bay will be hosting its first-ever Empty the Shelters adoption event Friday\, November 15 through Sunday\, November 17 sponsored by Bissell Pet Foundation. This adoption event was formed as a way to provide relief to our shelter following the increase in animal intakes after Hurricanes Helene and Milton. During this Empty the Shelters event\, all cats and dogs can be adopted from SPCA Tampa Bay with no adoption fee (some exclusions may apply). SPCA Tampa Bay currently has over 130 animals patiently waiting to find loving homes. All adoptions are processed on a first come\, first served basis at SPCA Tampa Bay’s shelter located in Largo.  \n  \nView Adoptable Cats \nView Adoptable Dogs
URL:https://spcatampabay.org/event/empty-the-shelters/
LOCATION:SPCA Tampa Bay\, 9099 130th Ave N\, Largo\, FL\, 33773\, United States
ATTACH;FMTTYPE=image/jpeg:https://spcatampabay.org/wp-content/uploads/Copy-of-2024_Emergency_ETS_CoverPhotos.jpg
END:VEVENT
BEGIN:VEVENT
DTSTART;TZID=America/New_York:20241120T130000
DTEND;TZID=America/New_York:20241201T180000
DTSTAMP:20260421T063149
CREATED:20241122T153330Z
LAST-MODIFIED:20241122T160328Z
UID:11619-1732107600-1733076000@spcatampabay.org
SUMMARY:Black Friday Adoption Event
DESCRIPTION:SPCA Tampa Bay is waiving adoption fees for cats and dogs 1 year or older during our Black Friday adoption event!  \nNov. 21-24\, Nov. 27\, and Nov. 29 – Dec. 1 adult cats and dogs can be adopted without a fee. There are currently over 80 cats and dogs looking for their forever homes.  \nView Adoptable Cats View Adoptable Dogs 
URL:https://spcatampabay.org/event/black-friday-adoption-event/
LOCATION:SPCA Tampa Bay\, 9099 130th Ave N\, Largo\, FL\, 33773\, United States
ATTACH;FMTTYPE=image/jpeg:https://spcatampabay.org/wp-content/uploads/BLACK-FRIDAY-Facebook-Cover.jpg
END:VEVENT
BEGIN:VEVENT
DTSTART;TZID=America/New_York:20241121T170000
DTEND;TZID=America/New_York:20241121T180000
DTSTAMP:20260421T063149
CREATED:20241115T191236Z
LAST-MODIFIED:20241115T191236Z
UID:11591-1732208400-1732212000@spcatampabay.org
SUMMARY:Thanksgiving Distribution with Feed St. Pete
DESCRIPTION:Feed St. Pete and SPCA Tampa Bay are coming together for a Thanksgiving Distribution! Thanksgiving meals\, pet food and pet supplies will be available.
URL:https://spcatampabay.org/event/thanksgiving-distribution-with-feed-st-pete/
LOCATION:Pinellas Community Church\, 5501 31st St S\, Saint Petersburg\, FL\, 33712\, United States
ATTACH;FMTTYPE=image/jpeg:https://spcatampabay.org/wp-content/uploads/THANKSGIVING-DISTRIBUTION-1.jpg
END:VEVENT
END:VCALENDAR