BEGIN:VCALENDAR
VERSION:2.0
PRODID:-//SPCA Tampa Bay - ECPv6.15.20//NONSGML v1.0//EN
CALSCALE:GREGORIAN
METHOD:PUBLISH
X-ORIGINAL-URL:https://spcatampabay.org
X-WR-CALDESC:Events for SPCA Tampa Bay
REFRESH-INTERVAL;VALUE=DURATION:PT1H
X-Robots-Tag:noindex
X-PUBLISHED-TTL:PT1H
BEGIN:VTIMEZONE
TZID:America/New_York
BEGIN:DAYLIGHT
TZOFFSETFROM:-0500
TZOFFSETTO:-0400
TZNAME:EDT
DTSTART:20230312T070000
END:DAYLIGHT
BEGIN:STANDARD
TZOFFSETFROM:-0400
TZOFFSETTO:-0500
TZNAME:EST
DTSTART:20231105T060000
END:STANDARD
BEGIN:DAYLIGHT
TZOFFSETFROM:-0500
TZOFFSETTO:-0400
TZNAME:EDT
DTSTART:20240310T070000
END:DAYLIGHT
BEGIN:STANDARD
TZOFFSETFROM:-0400
TZOFFSETTO:-0500
TZNAME:EST
DTSTART:20241103T060000
END:STANDARD
BEGIN:DAYLIGHT
TZOFFSETFROM:-0500
TZOFFSETTO:-0400
TZNAME:EDT
DTSTART:20250309T070000
END:DAYLIGHT
BEGIN:STANDARD
TZOFFSETFROM:-0400
TZOFFSETTO:-0500
TZNAME:EST
DTSTART:20251102T060000
END:STANDARD
END:VTIMEZONE
BEGIN:VEVENT
DTSTART;TZID=America/New_York:20241004T113000
DTEND;TZID=America/New_York:20241004T183000
DTSTAMP:20260421T045350
CREATED:20241002T135300Z
LAST-MODIFIED:20241002T135327Z
UID:11302-1728041400-1728066600@spcatampabay.org
SUMMARY:Hurricane Helene Relief Distribution Event
DESCRIPTION:Join us Friday\, October 4\, for Hurricane Helene Relief. Distributing pet supplies and other essentials at multiple locations in Saint Petersburg. 
URL:https://spcatampabay.org/event/hurricane-helene-relief-distribution-event/
LOCATION:FL
ATTACH;FMTTYPE=image/jpeg:https://spcatampabay.org/wp-content/uploads/helene-relief.jpg
END:VEVENT
BEGIN:VEVENT
DTSTART;TZID=America/New_York:20241019T110000
DTEND;TZID=America/New_York:20241019T150000
DTSTAMP:20260421T045350
CREATED:20241017T190404Z
LAST-MODIFIED:20241017T190404Z
UID:11429-1729335600-1729350000@spcatampabay.org
SUMMARY:Pet Food & Supplies Distribution at Safety Harbor Fall Fest
DESCRIPTION:Do you need pet supplies post-hurricane? Join SPCA Tampa Bay for a pet supply distribution at Safety Harbor Fall Fest on Saturday\, October 19 from 11AM-2:30PM. Fall Fest admission fee not required to receive pet supplies. 
URL:https://spcatampabay.org/event/pet-food-supplies-distribution-at-safety-harbor-fall-fest/
LOCATION:Safety Harbor Waterfront Park\, 105 Veterans Memorial Lane\, Safety Harbor\, FL\, 34695\, United States
ATTACH;FMTTYPE=image/jpeg:https://spcatampabay.org/wp-content/uploads/HURRICANE-RELIEF-DISTRIBUTION-1.jpg
END:VEVENT
BEGIN:VEVENT
DTSTART;TZID=America/New_York:20241023T130000
DTEND;TZID=America/New_York:20241025T180000
DTSTAMP:20260421T045350
CREATED:20241022T205626Z
LAST-MODIFIED:20241022T214511Z
UID:11445-1729688400-1729879200@spcatampabay.org
SUMMARY:Adoption Fees Waived for First 30 Dogs Adopted Wednesday\, October 23 – Friday\, October 25
DESCRIPTION:Adoption Fees Waived for First 30 Dogs Adopted Wednesday\, October 23 – Friday\, October 25 \nSPCA Tampa Bay is currently seeing an influx in dog surrenders from community members who have completely lost their homes or are displaced long-term and can no longer keep their pets due to the devastation left behind by hurricanes Milton and Helene. \nTo help with this influx\, SPCA Tampa Bay is waiving adoption fees on the first 30 dogs adopted starting on Wednesday\, October 23\, running through Friday\, October 25\, first come first served. There are currently over 115 dogs available for adoption and awaiting a loving home. \nIf you have been thinking about adopting a furry family member and are in a place to do so\, please consider adopting from SPCA Tampa Bay. We are open for adoptions Wednesday through Friday from 1 p.m. – 6 p.m. and Saturday through Sunday from 10 a.m. – 6 p.m. \nFor more information on all of our adoptable dogs\, visit spcatampabay.org/dogs\, or call 727-586-3591. \nIf you or someone you know is in need of hurricane relief services\, please visit our website at spcatampabay.org/hurricane-relief. We have vital recovery resources available\, including pet-friendly housing options\, free pet food distribution\, lost and found pet services\, and FEMA assistance. \n— \n#HurricaneMilton #HurricaneHelene #HurricaneRelief #TampaBay #PinellasCounty #PetOwners #PetAdoption
URL:https://spcatampabay.org/event/adoption-fees-waived-hurricane-relief/
LOCATION:SPCA Tampa Bay\, 9099 130th Ave N\, Largo\, FL\, 33773\, United States
END:VEVENT
END:VCALENDAR