BEGIN:VCALENDAR
VERSION:2.0
PRODID:-//SPCA Tampa Bay - ECPv6.15.20//NONSGML v1.0//EN
CALSCALE:GREGORIAN
METHOD:PUBLISH
X-WR-CALNAME:SPCA Tampa Bay
X-ORIGINAL-URL:https://spcatampabay.org
X-WR-CALDESC:Events for SPCA Tampa Bay
REFRESH-INTERVAL;VALUE=DURATION:PT1H
X-Robots-Tag:noindex
X-PUBLISHED-TTL:PT1H
BEGIN:VTIMEZONE
TZID:America/New_York
BEGIN:DAYLIGHT
TZOFFSETFROM:-0500
TZOFFSETTO:-0400
TZNAME:EDT
DTSTART:20230312T070000
END:DAYLIGHT
BEGIN:STANDARD
TZOFFSETFROM:-0400
TZOFFSETTO:-0500
TZNAME:EST
DTSTART:20231105T060000
END:STANDARD
BEGIN:DAYLIGHT
TZOFFSETFROM:-0500
TZOFFSETTO:-0400
TZNAME:EDT
DTSTART:20240310T070000
END:DAYLIGHT
BEGIN:STANDARD
TZOFFSETFROM:-0400
TZOFFSETTO:-0500
TZNAME:EST
DTSTART:20241103T060000
END:STANDARD
BEGIN:DAYLIGHT
TZOFFSETFROM:-0500
TZOFFSETTO:-0400
TZNAME:EDT
DTSTART:20250309T070000
END:DAYLIGHT
BEGIN:STANDARD
TZOFFSETFROM:-0400
TZOFFSETTO:-0500
TZNAME:EST
DTSTART:20251102T060000
END:STANDARD
END:VTIMEZONE
BEGIN:VEVENT
DTSTART;TZID=America/New_York:20240607T130000
DTEND;TZID=America/New_York:20240831T180000
DTSTAMP:20260421T120822
CREATED:20240606T200057Z
LAST-MODIFIED:20240806T133934Z
UID:10631-1717765200-1725127200@spcatampabay.org
SUMMARY:SPCA Tampa Bay's Summer Adopt-A-Thon
DESCRIPTION:SPCA Tampa Bay is discounting adoption fees on all animals during their Summer Adopt-A-Thon! All dogs and cats can be adopted this summer at half their normal fee from SPCA Tampa Bay. Additionally\, all small animals such as rabbits\, guinea pigs\, birds\, and reptiles are available to adopt for half their normal fee\, or in pairs\, two for the fee of one. \n\nAs a For-All shelter\, SPCA Tampa Bay accepts all animals regardless of the circumstance or situation. There are many reasons why an animal shelter receives animals\, and every single situation is unique. SPCA Tampa Bay currently has over 45 dogs\, 55 cats\, and 85 pocket pets and livestock available for adoption and awaiting a loving home. \n\n“The summer season is especially challenging for animal shelters across the board. Our hope is this adopt-a-thon will inspire people who have been thinking of adding a furry friend to their family to do so now\,” said Kristen Davis\, SPCA Tampa Bay’s Director of Marketing and Communications. “If you are unable to adopt\, please consider volunteering\, fostering\, or getting involved with the SPCA Tampa Bay in other ways this summer.” \n\nFor some people\, the summer brings longer days and more free time which can be the perfect scenario for introducing a new pet to your family. SPCA Tampa Bay offers resources to help your new furry family member transition from our For-All shelter in Largo to your forever home. If you’re ready to add a pet to your family\, consider participating in SPCA Tampa Bay’s Summer Adopt-A-Thon! \n  \nView Adoptable Cats \nView Adoptable Dogs \nView Adoptable Critters
URL:https://spcatampabay.org/event/spca-tampa-bays-summer-adopt-a-thon/
LOCATION:SPCA Tampa Bay\, 9099 130th Ave N\, Largo\, FL\, 33773\, United States
ATTACH;FMTTYPE=image/jpeg:https://spcatampabay.org/wp-content/uploads/Summer-Adopt-A-Thon-1920-x-1080-px.jpg
END:VEVENT
BEGIN:VEVENT
DTSTART;TZID=America/New_York:20240804T120000
DTEND;TZID=America/New_York:20240804T140000
DTSTAMP:20260421T120822
CREATED:20240723T165256Z
LAST-MODIFIED:20240723T165256Z
UID:10810-1722772800-1722780000@spcatampabay.org
SUMMARY:Pet Supermarket Adoption Event
DESCRIPTION:SPCA Tampa Bay will be onsite at Pet Supermarket from noon to 2pm to speak with potential adopters. To view adoptable animals\, please visit: spcatampabay.org  \n 
URL:https://spcatampabay.org/event/pet-supermarket-adoption-event/
LOCATION:Pet Supermarket\, 6892 Gulfport Blvd S Ste 1000\, South Pasadena\, FL\, 33707\, United States
END:VEVENT
BEGIN:VEVENT
DTSTART;TZID=America/New_York:20240810T100000
DTEND;TZID=America/New_York:20240816T180000
DTSTAMP:20260421T120822
CREATED:20240808T153117Z
LAST-MODIFIED:20240809T144356Z
UID:10911-1723284000-1723831200@spcatampabay.org
SUMMARY:Celebrate 10 Years of Clear the Shelters with $10 Dog Adoptions at SPCA Tampa Bay
DESCRIPTION:SPCA Tampa Bay is celebrating 10 years of Clear the Shelters with a month of special adoption promotions! From August 10 to August 16\, all dogs at SPCA Tampa Bay can be adopted for a fee of $10. There are currently over 70 canine companions at SPCA Tampa Bay awaiting their forever homes. Learn more at www.spcatampabay.org/dogs. This is the first of multiple Clear the Shelters adoption promotions running throughout the month of August! Keep an eye on our website and social media for upcoming events. \nThe nationwide pet adoption and donation campaign from NBCUniversal Local is returning for the 10th straight year this August! Clear The Shelters’ landmark anniversary comes after the campaign surpassed 1 million all-time adoptions in 2023. \n  \nView Adoptable Dogs
URL:https://spcatampabay.org/event/celebrate-10-years-of-clear-the-shelters-with-10-dog-adoptions-at-spca-tampa-bay/
LOCATION:SPCA Tampa Bay\, 9099 130th Ave N\, Largo\, FL\, 33773\, United States
ATTACH;FMTTYPE=image/jpeg:https://spcatampabay.org/wp-content/uploads/Copy-of-Clear-the-Shelters-2024-10-Adoption-Fees-Facebook-Event-Cover.jpg
END:VEVENT
BEGIN:VEVENT
DTSTART;TZID=America/New_York:20240817T100000
DTEND;TZID=America/New_York:20240823T180000
DTSTAMP:20260421T120822
CREATED:20240816T142214Z
LAST-MODIFIED:20240820T180059Z
UID:10943-1723888800-1724436000@spcatampabay.org
SUMMARY:Celebrate 10 Years of Clear The Shelters with $10 Cat Adoptions at SPCA Tampa Bay
DESCRIPTION:SPCA Tampa Bay is celebrating 10 years of Clear The Shelters with a month of special adoption promotions! From August 17 to August 23\, all cats at SPCA Tampa Bay can be adopted for a fee of $10. There are currently over 60 feline friends at SPCA Tampa Bay awaiting their forever homes. View our adoptable felines at www.spcatampabay.org/cats. This is one of multiple Clear The Shelters adoption promotions running throughout the month of August! Keep an eye on our website and social media for upcoming events. \nThe nationwide pet adoption and donation campaign from NBCUniversal Local is returning for the 10th straight year this August! Clear The Shelters’ landmark anniversary comes after the campaign surpassed 1 million all-time adoptions in 2023. \nView Adoptable Cats
URL:https://spcatampabay.org/event/10943/
LOCATION:SPCA Tampa Bay\, 9099 130th Ave N\, Largo\, FL\, 33773\, United States
ATTACH;FMTTYPE=image/jpeg:https://spcatampabay.org/wp-content/uploads/Clear-the-Shelters-2024-10-Adoption-Fees-Facebook-Event-Cover.jpg
END:VEVENT
BEGIN:VEVENT
DTSTART;TZID=America/New_York:20240824T100000
DTEND;TZID=America/New_York:20240831T180000
DTSTAMP:20260421T120822
CREATED:20240823T181937Z
LAST-MODIFIED:20240823T181937Z
UID:10996-1724493600-1725127200@spcatampabay.org
SUMMARY:Celebrate 10 Years of Clear The Shelters with $10 Small Animal and Livestock Adoptions
DESCRIPTION:SPCA Tampa Bay is celebrating 10 years of Clear the Shelters with a month of special adoption promotions! From August 24 to August 31\, all small animals and livestock at SPCA Tampa Bay can be adopted for a fee of $10. There are currently over 50 critter companions at SPCA Tampa Bay awaiting their forever homes. Learn more at www.spcatampabay.org/pocket-pets. This is one of multiple Clear the Shelters adoption promotions running throughout the month of August! Keep an eye on our website and social media for upcoming events. \nThe nationwide pet adoption and donation campaign from NBCUniversal Local is returning for the 10th straight year this August! Clear The Shelters’ landmark anniversary comes after the campaign surpassed 1 million all-time adoptions in 2023. \n  \nView Adoptable Critters
URL:https://spcatampabay.org/event/celebrate-10-years-of-clear-the-shelters-with-10-small-animal-and-livestock-adoptions/
LOCATION:SPCA Tampa Bay\, 9099 130th Ave N\, Largo\, FL\, 33773\, United States
ATTACH;FMTTYPE=image/jpeg:https://spcatampabay.org/wp-content/uploads/Clear-the-Shelters-2024-10-Adoption-Fees-Facebook-Event-Cover-1.jpg
END:VEVENT
END:VCALENDAR