BEGIN:VCALENDAR
VERSION:2.0
PRODID:-//SPCA Tampa Bay - ECPv6.15.20//NONSGML v1.0//EN
CALSCALE:GREGORIAN
METHOD:PUBLISH
X-ORIGINAL-URL:https://spcatampabay.org
X-WR-CALDESC:Events for SPCA Tampa Bay
REFRESH-INTERVAL;VALUE=DURATION:PT1H
X-Robots-Tag:noindex
X-PUBLISHED-TTL:PT1H
BEGIN:VTIMEZONE
TZID:America/New_York
BEGIN:DAYLIGHT
TZOFFSETFROM:-0500
TZOFFSETTO:-0400
TZNAME:EDT
DTSTART:20230312T070000
END:DAYLIGHT
BEGIN:STANDARD
TZOFFSETFROM:-0400
TZOFFSETTO:-0500
TZNAME:EST
DTSTART:20231105T060000
END:STANDARD
BEGIN:DAYLIGHT
TZOFFSETFROM:-0500
TZOFFSETTO:-0400
TZNAME:EDT
DTSTART:20240310T070000
END:DAYLIGHT
BEGIN:STANDARD
TZOFFSETFROM:-0400
TZOFFSETTO:-0500
TZNAME:EST
DTSTART:20241103T060000
END:STANDARD
BEGIN:DAYLIGHT
TZOFFSETFROM:-0500
TZOFFSETTO:-0400
TZNAME:EDT
DTSTART:20250309T070000
END:DAYLIGHT
BEGIN:STANDARD
TZOFFSETFROM:-0400
TZOFFSETTO:-0500
TZNAME:EST
DTSTART:20251102T060000
END:STANDARD
END:VTIMEZONE
BEGIN:VEVENT
DTSTART;TZID=America/New_York:20240607T130000
DTEND;TZID=America/New_York:20240831T180000
DTSTAMP:20260421T151005
CREATED:20240606T200057Z
LAST-MODIFIED:20240806T133934Z
UID:10631-1717765200-1725127200@spcatampabay.org
SUMMARY:SPCA Tampa Bay's Summer Adopt-A-Thon
DESCRIPTION:SPCA Tampa Bay is discounting adoption fees on all animals during their Summer Adopt-A-Thon! All dogs and cats can be adopted this summer at half their normal fee from SPCA Tampa Bay. Additionally\, all small animals such as rabbits\, guinea pigs\, birds\, and reptiles are available to adopt for half their normal fee\, or in pairs\, two for the fee of one. \n\nAs a For-All shelter\, SPCA Tampa Bay accepts all animals regardless of the circumstance or situation. There are many reasons why an animal shelter receives animals\, and every single situation is unique. SPCA Tampa Bay currently has over 45 dogs\, 55 cats\, and 85 pocket pets and livestock available for adoption and awaiting a loving home. \n\n“The summer season is especially challenging for animal shelters across the board. Our hope is this adopt-a-thon will inspire people who have been thinking of adding a furry friend to their family to do so now\,” said Kristen Davis\, SPCA Tampa Bay’s Director of Marketing and Communications. “If you are unable to adopt\, please consider volunteering\, fostering\, or getting involved with the SPCA Tampa Bay in other ways this summer.” \n\nFor some people\, the summer brings longer days and more free time which can be the perfect scenario for introducing a new pet to your family. SPCA Tampa Bay offers resources to help your new furry family member transition from our For-All shelter in Largo to your forever home. If you’re ready to add a pet to your family\, consider participating in SPCA Tampa Bay’s Summer Adopt-A-Thon! \n  \nView Adoptable Cats \nView Adoptable Dogs \nView Adoptable Critters
URL:https://spcatampabay.org/event/spca-tampa-bays-summer-adopt-a-thon/
LOCATION:SPCA Tampa Bay\, 9099 130th Ave N\, Largo\, FL\, 33773\, United States
ATTACH;FMTTYPE=image/jpeg:https://spcatampabay.org/wp-content/uploads/Summer-Adopt-A-Thon-1920-x-1080-px.jpg
END:VEVENT
BEGIN:VEVENT
DTSTART;TZID=America/New_York:20240622T100000
DTEND;TZID=America/New_York:20240622T130000
DTSTAMP:20260421T151005
CREATED:20240612T160246Z
LAST-MODIFIED:20240612T160830Z
UID:10657-1719050400-1719061200@spcatampabay.org
SUMMARY:SPCA Tampa Bay Community Pet Vaccine Clinic
DESCRIPTION:Low cost pet vaccines and microchips. $10 per vaccine and microchip for dogs and cats. All fees will be waived with proof of government assistance. Only 50 spots are available. \nPlease pre-register to reduce your wait time day-of.
URL:https://spcatampabay.org/event/spca-tampa-bay-community-pet-vaccine-clinic/
LOCATION:SPCA Tampa Bay\, 9099 130th Ave N\, Largo\, FL\, 33773\, United States
ATTACH;FMTTYPE=image/jpeg:https://spcatampabay.org/wp-content/uploads/3-1-1.jpg
END:VEVENT
END:VCALENDAR