BEGIN:VCALENDAR
VERSION:2.0
PRODID:-//SPCA Tampa Bay - ECPv6.15.20//NONSGML v1.0//EN
CALSCALE:GREGORIAN
METHOD:PUBLISH
X-WR-CALNAME:SPCA Tampa Bay
X-ORIGINAL-URL:https://spcatampabay.org
X-WR-CALDESC:Events for SPCA Tampa Bay
REFRESH-INTERVAL;VALUE=DURATION:PT1H
X-Robots-Tag:noindex
X-PUBLISHED-TTL:PT1H
BEGIN:VTIMEZONE
TZID:America/New_York
BEGIN:DAYLIGHT
TZOFFSETFROM:-0500
TZOFFSETTO:-0400
TZNAME:EDT
DTSTART:20230312T070000
END:DAYLIGHT
BEGIN:STANDARD
TZOFFSETFROM:-0400
TZOFFSETTO:-0500
TZNAME:EST
DTSTART:20231105T060000
END:STANDARD
BEGIN:DAYLIGHT
TZOFFSETFROM:-0500
TZOFFSETTO:-0400
TZNAME:EDT
DTSTART:20240310T070000
END:DAYLIGHT
BEGIN:STANDARD
TZOFFSETFROM:-0400
TZOFFSETTO:-0500
TZNAME:EST
DTSTART:20241103T060000
END:STANDARD
BEGIN:DAYLIGHT
TZOFFSETFROM:-0500
TZOFFSETTO:-0400
TZNAME:EDT
DTSTART:20250309T070000
END:DAYLIGHT
BEGIN:STANDARD
TZOFFSETFROM:-0400
TZOFFSETTO:-0500
TZNAME:EST
DTSTART:20251102T060000
END:STANDARD
END:VTIMEZONE
BEGIN:VEVENT
DTSTART;TZID=America/New_York:20240406T083000
DTEND;TZID=America/New_York:20240406T120000
DTSTAMP:20260421T184747
CREATED:20240112T152219Z
LAST-MODIFIED:20240122T191715Z
UID:9832-1712392200-1712404800@spcatampabay.org
SUMMARY:SPCA Tampa Bay's 33rd Annual Pet Walk!
DESCRIPTION:​ \nPet Walk is happening at two locations again this year! North Straub Park in St. Petersburg and Largo Central Park in Largo! \nFor information about Sponsorship opportunities\, please click here: 2024 Pet Walk Sponsorship Opportunities \nStay tuned for more information about the fun we have planned for the 2024 Pet Walk on Saturday\, April 6\, 2024! \nIf you have any questions\, please give us a call at 727-499-0367 or email petwalk@spcatampabay.org.
URL:https://spcatampabay.org/event/spca-tampa-bays-33rd-annual-pet-walk/
LOCATION:FL
END:VEVENT
BEGIN:VEVENT
DTSTART;TZID=America/New_York:20240427T110000
DTEND;TZID=America/New_York:20240427T123000
DTSTAMP:20260421T184747
CREATED:20240408T192134Z
LAST-MODIFIED:20240408T192257Z
UID:10273-1714215600-1714221000@spcatampabay.org
SUMMARY:SPCA Tampa Bay's 2nd Annual Kitten Shower
DESCRIPTION:Join us for an afternoon of foster education and fun at Studio 131 on Saturday\, April 27 from 11 a.m.-12:30 p.m. You will have the opportunity to mingle with our Foster Team and even join our Foster Volunteer list. Don’t worry – there will be kittens and cheesy shower games for all ages. Please consider bringing a gift from our Foster Registry to help us prepare for kitten season at the shelter. Every guest who donates an item from our list will receive a chance to win a paw-some prize basket at the event! Lunch will be generously provided by Chicken Salad Chick – Seminole
URL:https://spcatampabay.org/event/spca-tampa-bays-2nd-annual-kitten-shower/
LOCATION:Studio 131\, 11803 104th St\, Largo\, FL\, 33773\, United States
ATTACH;FMTTYPE=image/jpeg:https://spcatampabay.org/wp-content/uploads/2024-kitten-shower-Facebook-Cover-1.jpg
END:VEVENT
END:VCALENDAR