BEGIN:VCALENDAR
VERSION:2.0
PRODID:-//SPCA Tampa Bay - ECPv6.15.20//NONSGML v1.0//EN
CALSCALE:GREGORIAN
METHOD:PUBLISH
X-ORIGINAL-URL:https://spcatampabay.org
X-WR-CALDESC:Events for SPCA Tampa Bay
REFRESH-INTERVAL;VALUE=DURATION:PT1H
X-Robots-Tag:noindex
X-PUBLISHED-TTL:PT1H
BEGIN:VTIMEZONE
TZID:America/New_York
BEGIN:DAYLIGHT
TZOFFSETFROM:-0500
TZOFFSETTO:-0400
TZNAME:EDT
DTSTART:20230312T070000
END:DAYLIGHT
BEGIN:STANDARD
TZOFFSETFROM:-0400
TZOFFSETTO:-0500
TZNAME:EST
DTSTART:20231105T060000
END:STANDARD
BEGIN:DAYLIGHT
TZOFFSETFROM:-0500
TZOFFSETTO:-0400
TZNAME:EDT
DTSTART:20240310T070000
END:DAYLIGHT
BEGIN:STANDARD
TZOFFSETFROM:-0400
TZOFFSETTO:-0500
TZNAME:EST
DTSTART:20241103T060000
END:STANDARD
BEGIN:DAYLIGHT
TZOFFSETFROM:-0500
TZOFFSETTO:-0400
TZNAME:EDT
DTSTART:20250309T070000
END:DAYLIGHT
BEGIN:STANDARD
TZOFFSETFROM:-0400
TZOFFSETTO:-0500
TZNAME:EST
DTSTART:20251102T060000
END:STANDARD
END:VTIMEZONE
BEGIN:VEVENT
DTSTART;TZID=America/New_York:20240306T130000
DTEND;TZID=America/New_York:20240331T180000
DTSTAMP:20260421T201838
CREATED:20240305T144024Z
LAST-MODIFIED:20240318T162644Z
UID:10145-1709730000-1711908000@spcatampabay.org
SUMMARY:Pocket Pets of Gold - ADOPTION FEES WAIVED
DESCRIPTION:Due to the recent influx of small animals coming to the shelter\, SPCA Tampa Bay is extending its Pocket Pets of Gold adoption event and waiving adoption fees on all pocket pets such as rabbits\, rats\, and guinea pigs through Sunday\, March 31. Reptiles such as turtles and livestock are also included in this adoption event\, unless specified otherwise. There are currently over 75 pocket pets and reptiles available for adoption and awaiting a loving home. \n  \nView Adoptable Pocket Pets & Livestock
URL:https://spcatampabay.org/event/pocket-pets-of-gold-adoption-fees-waived/
LOCATION:SPCA Tampa Bay\, 9099 130th Ave N\, Largo\, FL\, 33773\, United States
ATTACH;FMTTYPE=image/jpeg:https://spcatampabay.org/wp-content/uploads/Pocket-Pet-Fee-waive-event-Facebook-Cover-2.jpg
END:VEVENT
BEGIN:VEVENT
DTSTART;TZID=America/New_York:20240312T150000
DTEND;TZID=America/New_York:20240312T180000
DTSTAMP:20260421T201838
CREATED:20240220T201900Z
LAST-MODIFIED:20240220T201900Z
UID:10096-1710255600-1710266400@spcatampabay.org
SUMMARY:Rabbit Matchmaking
DESCRIPTION:Binky on over to SPCA Tampa Bay for our first ever “bunny speed dating” event on Tuesday\, March 12 from 3-6pm!\nIf you are looking to adopt a companion for your pet rabbit\, this is the event for you! You and your rabbit will have the opportunity to participate in a series of meet and greets to find your bun a suitable match.\nIf you don’t have a pet rabbit yet but are looking to adopt multiple buns and bond them\, this event is also for you! You will have the opportunity to meet and adopt two shelter rabbits that you can bond at home\, per the recommendation of SPCA Tampa Bay staff and volunteers.\nSpace is limited\, so RSVP now to reserve your spot! There is a $10 registration fee that will be applied to your final adoption fee should you chose to adopt at the event.
URL:https://spcatampabay.org/event/rabbit-matchmaking/
LOCATION:SPCA Tampa Bay\, 9099 130th Ave N\, Largo\, FL\, 33773\, United States
ATTACH;FMTTYPE=image/jpeg:https://spcatampabay.org/wp-content/uploads/Rabbit-Matchmaking-Event-FB-Event-Cover.jpg
END:VEVENT
END:VCALENDAR