BEGIN:VCALENDAR
VERSION:2.0
PRODID:-//SPCA Tampa Bay - ECPv6.15.20//NONSGML v1.0//EN
CALSCALE:GREGORIAN
METHOD:PUBLISH
X-ORIGINAL-URL:https://spcatampabay.org
X-WR-CALDESC:Events for SPCA Tampa Bay
REFRESH-INTERVAL;VALUE=DURATION:PT1H
X-Robots-Tag:noindex
X-PUBLISHED-TTL:PT1H
BEGIN:VTIMEZONE
TZID:America/New_York
BEGIN:DAYLIGHT
TZOFFSETFROM:-0500
TZOFFSETTO:-0400
TZNAME:EDT
DTSTART:20230312T070000
END:DAYLIGHT
BEGIN:STANDARD
TZOFFSETFROM:-0400
TZOFFSETTO:-0500
TZNAME:EST
DTSTART:20231105T060000
END:STANDARD
BEGIN:DAYLIGHT
TZOFFSETFROM:-0500
TZOFFSETTO:-0400
TZNAME:EDT
DTSTART:20240310T070000
END:DAYLIGHT
BEGIN:STANDARD
TZOFFSETFROM:-0400
TZOFFSETTO:-0500
TZNAME:EST
DTSTART:20241103T060000
END:STANDARD
BEGIN:DAYLIGHT
TZOFFSETFROM:-0500
TZOFFSETTO:-0400
TZNAME:EDT
DTSTART:20250309T070000
END:DAYLIGHT
BEGIN:STANDARD
TZOFFSETFROM:-0400
TZOFFSETTO:-0500
TZNAME:EST
DTSTART:20251102T060000
END:STANDARD
END:VTIMEZONE
BEGIN:VEVENT
DTSTART;TZID=America/New_York:20240210T103000
DTEND;TZID=America/New_York:20240210T120000
DTSTAMP:20260421T221055
CREATED:20240117T202936Z
LAST-MODIFIED:20240117T203250Z
UID:9890-1707561000-1707566400@spcatampabay.org
SUMMARY:33rd Annual Pet Walk Kickoff
DESCRIPTION:Help us kick off Pet Walk season on Saturday\, February 10 from 10:30am-12pm at our shelter in Largo! Enjoy a continental breakfast while discovering the best way to pump up your teammates\, use the tools at Petwalk.org and set up your own mini-fundraisers. There will be fantastic door prizes AND prizes for you to use for your own mini-kick-off\, raffles or team-mate competitions! Plus\, there will be fur – cuddly adoptables will be on hand to welcome you\, and you’ll leave with everything you need to put the FUN in your fundraising. \nRSVP by February 5 
URL:https://spcatampabay.org/event/33rd-annual-pet-walk-kickoff/
LOCATION:SPCA Tampa Bay\, 9099 130th Ave N\, Largo\, FL\, 33773\, United States
ATTACH;FMTTYPE=image/jpeg:https://spcatampabay.org/wp-content/uploads/Pet-Walk-Kick-Off-1.jpg
END:VEVENT
BEGIN:VEVENT
DTSTART;TZID=America/New_York:20240217T130000
DTEND;TZID=America/New_York:20240217T170000
DTSTAMP:20260421T221055
CREATED:20230210T140551Z
LAST-MODIFIED:20240206T162747Z
UID:8174-1708174800-1708189200@spcatampabay.org
SUMMARY:Tampa Bay Rays Fan Fest
DESCRIPTION:Fan Fest is back! Join the Rays for a fun-filled free event on Saturday\, February 17. Fan Fest\, features activities for the whole family including: \nA Charity Yard Sale benefiting the Rays Baseball Foundation.\nOpportunities to interact with your favorite players.\nGames\, inflatables\, mascots and an entertaining stage show.\nAnd more! \nSaturday\, February 17\nTropicana Field\n1 p.m. – 5 p.m.\nFan Fest is a free event but all attendees must claim a ticket using the Ballpark App.\nDon’t forget to stop by to say “hey!” to SPCA Tampa Bay!
URL:https://spcatampabay.org/event/tampa-bay-rays-fan-fest/
LOCATION:Tropicana Field\, 1 Tropicana Dr\, St Petersburg\, FL\, 33705\, United States
ATTACH;FMTTYPE=image/jpeg:https://spcatampabay.org/wp-content/uploads/Screenshot-89.jpg
END:VEVENT
BEGIN:VEVENT
DTSTART;TZID=America/New_York:20240224T100000
DTEND;TZID=America/New_York:20240224T170000
DTSTAMP:20260421T221055
CREATED:20240116T205526Z
LAST-MODIFIED:20240116T205526Z
UID:9861-1708768800-1708794000@spcatampabay.org
SUMMARY:Gulfport's 20th Annual Get Rescued
DESCRIPTION:Grab your pups and stop by our booth at the 20th Annual Gulfport’s Get Rescued! This popular pet-friendly event features a multitude of pet-friendly vendors\, pet adoptions\, Weiner Dog Derby\, and more!  \n*disclaimer: SPCA Tampa Bay will NOT be bringing any of our adoptable animals to this event. The best place to adopt our animals is at our For-All Shelter located in Largo. 
URL:https://spcatampabay.org/event/gulfports-20th-annual-get-rescued/
LOCATION:Gulfport\, 3101 Beach Blvd S\, Gulfport\, FL\, 33707\, United States
ATTACH;FMTTYPE=image/jpeg:https://spcatampabay.org/wp-content/uploads/get-rescued-2024-2.jpg
ORGANIZER;CN="Get Rescued Inc.":MAILTO:getrescuedinc@gmail.com
END:VEVENT
BEGIN:VEVENT
DTSTART;TZID=America/New_York:20240229T130000
DTEND;TZID=America/New_York:20240229T180000
DTSTAMP:20260421T221055
CREATED:20240226T224859Z
LAST-MODIFIED:20240228T164034Z
UID:10113-1709211600-1709229600@spcatampabay.org
SUMMARY:Leap Day Adoption Event: Fees WAIVED for Cats and Dogs 4 years and older
DESCRIPTION:SPCA Tampa Bay is waiving adoption fees for dogs and cats four years old and up during its Leap Day adoption event on Thursday\, February 29. There are currently over 30 dogs and over 20 cats\, all over the age of four\, awaiting their forever homes. Adoption events such as this one are so important as dogs and cats over the age of four often stay at the shelter for much longer than their younger furry friends. These distinguished canine and feline companions come in all shapes and sizes and can be adopted without a fee from SPCA Tampa Bay for one day only. Come visit SPCA Tampa Bay’s For-All shelter in Largo and meet them today! \nView Adoptable Dogs \nView Adoptable Cats
URL:https://spcatampabay.org/event/leap-day-adoption-event/
LOCATION:SPCA Tampa Bay\, 9099 130th Ave N\, Largo\, FL\, 33773\, United States
ATTACH;FMTTYPE=image/jpeg:https://spcatampabay.org/wp-content/uploads/Leap-Day-Adoption-Event-FB-Cover-1920-x-1080-px.jpg
END:VEVENT
END:VCALENDAR