BEGIN:VCALENDAR
VERSION:2.0
PRODID:-//SPCA Tampa Bay - ECPv6.15.20//NONSGML v1.0//EN
CALSCALE:GREGORIAN
METHOD:PUBLISH
X-WR-CALNAME:SPCA Tampa Bay
X-ORIGINAL-URL:https://spcatampabay.org
X-WR-CALDESC:Events for SPCA Tampa Bay
REFRESH-INTERVAL;VALUE=DURATION:PT1H
X-Robots-Tag:noindex
X-PUBLISHED-TTL:PT1H
BEGIN:VTIMEZONE
TZID:America/New_York
BEGIN:DAYLIGHT
TZOFFSETFROM:-0500
TZOFFSETTO:-0400
TZNAME:EDT
DTSTART:20220313T070000
END:DAYLIGHT
BEGIN:STANDARD
TZOFFSETFROM:-0400
TZOFFSETTO:-0500
TZNAME:EST
DTSTART:20221106T060000
END:STANDARD
BEGIN:DAYLIGHT
TZOFFSETFROM:-0500
TZOFFSETTO:-0400
TZNAME:EDT
DTSTART:20230312T070000
END:DAYLIGHT
BEGIN:STANDARD
TZOFFSETFROM:-0400
TZOFFSETTO:-0500
TZNAME:EST
DTSTART:20231105T060000
END:STANDARD
BEGIN:DAYLIGHT
TZOFFSETFROM:-0500
TZOFFSETTO:-0400
TZNAME:EDT
DTSTART:20240310T070000
END:DAYLIGHT
BEGIN:STANDARD
TZOFFSETFROM:-0400
TZOFFSETTO:-0500
TZNAME:EST
DTSTART:20241103T060000
END:STANDARD
END:VTIMEZONE
BEGIN:VEVENT
DTSTART;TZID=America/New_York:20231004T183000
DTEND;TZID=America/New_York:20231004T193000
DTSTAMP:20260424T041725
CREATED:20230918T131519Z
LAST-MODIFIED:20230918T131519Z
UID:9182-1696444200-1696447800@spcatampabay.org
SUMMARY:Paws of Wisdom
DESCRIPTION:Hear from Chief Veterinary Officer of SPCA Veterinary Center\, Dr. Cyndi Mitchell. An introduction to dog vaccines and how to work with your vet to make the best choices for your dog. $10 entrance fee WAIVED for event! For RSVP\, email information@spcatampabay.org
URL:https://spcatampabay.org/event/paws-of-wisdom/
LOCATION:Mutts and Martinis\, 2900 Central Ave\, Saint Petersburg\, FL\, 33712\, United States
END:VEVENT
END:VCALENDAR