BEGIN:VCALENDAR
VERSION:2.0
PRODID:-//SPCA Tampa Bay - ECPv6.15.20//NONSGML v1.0//EN
CALSCALE:GREGORIAN
METHOD:PUBLISH
X-WR-CALNAME:SPCA Tampa Bay
X-ORIGINAL-URL:https://spcatampabay.org
X-WR-CALDESC:Events for SPCA Tampa Bay
REFRESH-INTERVAL;VALUE=DURATION:PT1H
X-Robots-Tag:noindex
X-PUBLISHED-TTL:PT1H
BEGIN:VTIMEZONE
TZID:America/New_York
BEGIN:DAYLIGHT
TZOFFSETFROM:-0500
TZOFFSETTO:-0400
TZNAME:EDT
DTSTART:20220313T070000
END:DAYLIGHT
BEGIN:STANDARD
TZOFFSETFROM:-0400
TZOFFSETTO:-0500
TZNAME:EST
DTSTART:20221106T060000
END:STANDARD
BEGIN:DAYLIGHT
TZOFFSETFROM:-0500
TZOFFSETTO:-0400
TZNAME:EDT
DTSTART:20230312T070000
END:DAYLIGHT
BEGIN:STANDARD
TZOFFSETFROM:-0400
TZOFFSETTO:-0500
TZNAME:EST
DTSTART:20231105T060000
END:STANDARD
BEGIN:DAYLIGHT
TZOFFSETFROM:-0500
TZOFFSETTO:-0400
TZNAME:EDT
DTSTART:20240310T070000
END:DAYLIGHT
BEGIN:STANDARD
TZOFFSETFROM:-0400
TZOFFSETTO:-0500
TZNAME:EST
DTSTART:20241103T060000
END:STANDARD
END:VTIMEZONE
BEGIN:VEVENT
DTSTART;TZID=America/New_York:20230626T110000
DTEND;TZID=America/New_York:20230626T170000
DTSTAMP:20260422T105931
CREATED:20230602T174542Z
LAST-MODIFIED:20230602T174713Z
UID:8805-1687777200-1687798800@spcatampabay.org
SUMMARY:St Pete Pride Carnival
DESCRIPTION:St Pete Pride’s popular Sunday street festival will be reimagined as a carnival\, bringing tens of thousands of all ages to the Grand Central District to enjoy block after block of entertainment\, vendors\, food\, community partners\, and interactive carnival games. With multiple performance stages\, roaming street performers\, and hundreds of participating businesses and organizations\, there will be something for everyone. Be sure to stop by the SPCA Tampa Bay booth to spin the prize wheel and win some NEW SPCA TB swag!
URL:https://spcatampabay.org/event/st-pete-pride-carnival/
LOCATION:Grand Central Disctrict
ATTACH;FMTTYPE=image/png:https://spcatampabay.org/wp-content/uploads/pride-2023.png
END:VEVENT
END:VCALENDAR