BEGIN:VCALENDAR
VERSION:2.0
PRODID:-//SPCA Tampa Bay - ECPv6.15.20//NONSGML v1.0//EN
CALSCALE:GREGORIAN
METHOD:PUBLISH
X-ORIGINAL-URL:https://spcatampabay.org
X-WR-CALDESC:Events for SPCA Tampa Bay
REFRESH-INTERVAL;VALUE=DURATION:PT1H
X-Robots-Tag:noindex
X-PUBLISHED-TTL:PT1H
BEGIN:VTIMEZONE
TZID:America/New_York
BEGIN:DAYLIGHT
TZOFFSETFROM:-0500
TZOFFSETTO:-0400
TZNAME:EDT
DTSTART:20220313T070000
END:DAYLIGHT
BEGIN:STANDARD
TZOFFSETFROM:-0400
TZOFFSETTO:-0500
TZNAME:EST
DTSTART:20221106T060000
END:STANDARD
BEGIN:DAYLIGHT
TZOFFSETFROM:-0500
TZOFFSETTO:-0400
TZNAME:EDT
DTSTART:20230312T070000
END:DAYLIGHT
BEGIN:STANDARD
TZOFFSETFROM:-0400
TZOFFSETTO:-0500
TZNAME:EST
DTSTART:20231105T060000
END:STANDARD
BEGIN:DAYLIGHT
TZOFFSETFROM:-0500
TZOFFSETTO:-0400
TZNAME:EDT
DTSTART:20240310T070000
END:DAYLIGHT
BEGIN:STANDARD
TZOFFSETFROM:-0400
TZOFFSETTO:-0500
TZNAME:EST
DTSTART:20241103T060000
END:STANDARD
END:VTIMEZONE
BEGIN:VEVENT
DTSTART;TZID=America/New_York:20230402T170000
DTEND;TZID=America/New_York:20230402T190000
DTSTAMP:20260422T142517
CREATED:20230316T193238Z
LAST-MODIFIED:20230316T193238Z
UID:8328-1680454800-1680462000@spcatampabay.org
SUMMARY:Great Connections Spring Fling! at Great Explorations
DESCRIPTION:HOP into spring with us!  This month\, Excellerated Teaching Academy\, and the Early Learning Coalition of Pinellas County will be joining Great Ex for a wonderful spring celebration with a visit from the Big Bunny\, an egg hunt\, basket decorating\, and lots of love from pocket pets brought in by SPCA Tampa Bay!\n \n**Although this is a sensory friendly event\, we still encourage guests to bring additional sensory support (ie. noise cancelling headphones\, a favorite stuffed animal)**\n \nGreat Connections is now a free program all thanks to Guardian Trust.\n \nOn the second Sunday of every month\, Great Explorations Children’s Museum will close to the general public and open for families with special needs to come and enjoy Great Connections\, a sensory-friendly event. Great Explorations will modify lights\, sounds\, and provide a “cool down” room for families who need to take a break. Each month\, the program will offer new stimulating activities and themes for everyone to enjoy. 
URL:https://spcatampabay.org/event/great-connections-spring-fling-at-great-explorations/
LOCATION:Great Explorations Children’s Museum\, 1925 4th Street North\, St. Petersburg\, FL\, United States
ATTACH;FMTTYPE=image/jpeg:https://spcatampabay.org/wp-content/uploads/spring-fling.jpg
END:VEVENT
BEGIN:VEVENT
DTSTART;TZID=America/New_York:20230415T083000
DTEND;TZID=America/New_York:20230415T120000
DTSTAMP:20260422T142517
CREATED:20230113T145120Z
LAST-MODIFIED:20230113T145306Z
UID:7989-1681547400-1681560000@spcatampabay.org
SUMMARY:32nd SPCA Tampa Bay Pet Walk
DESCRIPTION:Join the hundreds of animal lovers who come out to Pet Walk and raise money for the animals at SPCA Tampa Bay!\n \nFor the first time\, Pet Walk is happening at 2 LOCATIONS! This year\, you can choose to walk at North Straub Park in Saint Pete OR at OCC Road House & Museum in Clearwater! \n \nSPCA Tampa Bay is so much more than just an adoption agency for cats and dogs. We are a For-All shelter and veterinary center. Being “For-All” means that SPCA Tampa Bay will not limit admission or refuse to take in a pet of any type or situation.\n \nSo join or form a team with co-workers\, friends and family\, or join as a individual virtual walker and start raising money TODAY to help support our organization’s many programs that benefit the community.\n \nRegister today for FREE at www.petwalk.org 
URL:https://spcatampabay.org/event/32nd-spca-tampa-bay-pet-walk/
LOCATION:North Straub Park & OCC Road House
ATTACH;FMTTYPE=image/jpeg:https://spcatampabay.org/wp-content/uploads/Save-the-Date-Pet-Walk-2023-2.jpg
END:VEVENT
BEGIN:VEVENT
DTSTART;TZID=America/New_York:20230422T070000
DTEND;TZID=America/New_York:20230422T070000
DTSTAMP:20260422T142517
CREATED:20230223T161117Z
LAST-MODIFIED:20230223T161117Z
UID:8209-1682146800-1682146800@spcatampabay.org
SUMMARY:3rd Annual Salty Sands Run/Walk
DESCRIPTION:The Rotary Club of St. Petersburg is happy to announce the 3rd Annual Salty Sands Run/Walk on Saturday\, April 22\, 2023 in beautiful Fort Desoto Park! \nThis year’s 10k Run\, 5K Run & 1 Mile Fun Run/Walk has a new twist! You to choose the winner! \nRunners will be asked to select from one of three charities at registration\, including SPCA Tampa Bay! The three local non-profits will compete to win a percentage of the event proceeds. \nRunners will be asked to select their charity of choice at registration\, and bonus points will be awarded to an organization if a registered participant places in the timed 5k or 10k races. \n*The 1-mile walk/run is not timed\, so there will be no extra points allocated to that race. Bonus Points for overall 5k and 10k winners! The organization that ends up with the most points wins the most money! \nRegister at sprotary.org/salty-sands-5k-10k/ \n 
URL:https://spcatampabay.org/event/3rd-annual-salty-sands-run-walk/
LOCATION:Fort Desoto Park\, 3500 Pinellas Bayway South\, Tierra Verde\, FL\, 33715\, United States
ATTACH;FMTTYPE=image/png:https://spcatampabay.org/wp-content/uploads/Untitled-design-8.png
END:VEVENT
END:VCALENDAR