BEGIN:VCALENDAR
VERSION:2.0
PRODID:-//SPCA Tampa Bay - ECPv6.15.20//NONSGML v1.0//EN
CALSCALE:GREGORIAN
METHOD:PUBLISH
X-WR-CALNAME:SPCA Tampa Bay
X-ORIGINAL-URL:https://spcatampabay.org
X-WR-CALDESC:Events for SPCA Tampa Bay
REFRESH-INTERVAL;VALUE=DURATION:PT1H
X-Robots-Tag:noindex
X-PUBLISHED-TTL:PT1H
BEGIN:VTIMEZONE
TZID:America/New_York
BEGIN:DAYLIGHT
TZOFFSETFROM:-0500
TZOFFSETTO:-0400
TZNAME:EDT
DTSTART:20220313T070000
END:DAYLIGHT
BEGIN:STANDARD
TZOFFSETFROM:-0400
TZOFFSETTO:-0500
TZNAME:EST
DTSTART:20221106T060000
END:STANDARD
BEGIN:DAYLIGHT
TZOFFSETFROM:-0500
TZOFFSETTO:-0400
TZNAME:EDT
DTSTART:20230312T070000
END:DAYLIGHT
BEGIN:STANDARD
TZOFFSETFROM:-0400
TZOFFSETTO:-0500
TZNAME:EST
DTSTART:20231105T060000
END:STANDARD
BEGIN:DAYLIGHT
TZOFFSETFROM:-0500
TZOFFSETTO:-0400
TZNAME:EDT
DTSTART:20240310T070000
END:DAYLIGHT
BEGIN:STANDARD
TZOFFSETFROM:-0400
TZOFFSETTO:-0500
TZNAME:EST
DTSTART:20241103T060000
END:STANDARD
END:VTIMEZONE
BEGIN:VEVENT
DTSTART;TZID=America/New_York:20230204T120000
DTEND;TZID=America/New_York:20230204T170000
DTSTAMP:20260422T172335
CREATED:20230119T191837Z
LAST-MODIFIED:20230119T191837Z
UID:8044-1675512000-1675530000@spcatampabay.org
SUMMARY:Pets Day Out! - Food Truck & Vendor Market
DESCRIPTION:Bring your pets and family for tons of fun! \nGeneral Admission to the public is always free! \nWhat is the Saturday Morning Shoppe?\nYOUR local marketplace. The Shoppe is an outdoor event catered to small businesses with a focus on their growth in individual cities.  \n 
URL:https://spcatampabay.org/event/pets-day-out-food-truck-vendor-market/
LOCATION:Tropicana Field (Lot 4)\, One Tropicana Dr\, St Petersburg\, FL\, 33705\, United States
END:VEVENT
BEGIN:VEVENT
DTSTART;TZID=America/New_York:20230205T110000
DTEND;TZID=America/New_York:20230205T130000
DTSTAMP:20260422T172335
CREATED:20230113T145455Z
LAST-MODIFIED:20230113T145455Z
UID:7997-1675594800-1675602000@spcatampabay.org
SUMMARY:32nd SPCA Tampa Bay Pet Walk Kick-Off Event
DESCRIPTION:Join SPCA Tampa Bay for our 32nd Pet Walk Kick-Off Event on Saturday\, Feb 5 from 11am-1pm!\n \nWe will have fundraising tips and tricks to help you make the most of your Pet Walk experience.\n \nFood will be generously provided by our host\, OCC Road House & Museum!\n \nRegister for the kick-off TODAY at https://p2p.onecause.com/petwalk/page/kickoff
URL:https://spcatampabay.org/event/32nd-spca-tampa-bay-pet-walk-kick-off-event/
LOCATION:OCC Road House & Museum\, 10575 49th St N\, Clearwater\, FL\, 33762\, United States
ATTACH;FMTTYPE=image/jpeg:https://spcatampabay.org/wp-content/uploads/Save-the-Date-Pet-Walk-2023-1.jpg
END:VEVENT
BEGIN:VEVENT
DTSTART;TZID=America/New_York:20230225T100000
DTEND;TZID=America/New_York:20230225T170000
DTSTAMP:20260422T172335
CREATED:20230210T134244Z
LAST-MODIFIED:20230210T134459Z
UID:8164-1677319200-1677344400@spcatampabay.org
SUMMARY:19th Annual Gulfport's Get Rescued
DESCRIPTION:Grab your pups and stop by our booth at the 19th Annual Gulfport’s Get Rescued! This popular pet-friendly event features a multitude of pet-friendly vendors\, pet adoptions\, Weiner Dog Derby\, and more!  \n  \n*disclaimer: SPCA Tampa Bay will NOT be bringing any of our adoptable animals to this event. The best place to adopt our animals is at our For-All Shelter located in Largo. 
URL:https://spcatampabay.org/event/19th-annual-gulfports-get-rescued/
LOCATION:Gulfport\, 3101 Beach Blvd S\, Gulfport\, FL\, 33707\, United States
ATTACH;FMTTYPE=image/jpeg:https://spcatampabay.org/wp-content/uploads/get-rescued-2023.jpg
ORGANIZER;CN="Get Rescued Inc.":MAILTO:getrescuedinc@gmail.com
END:VEVENT
END:VCALENDAR