BEGIN:VCALENDAR
VERSION:2.0
PRODID:-//SPCA Tampa Bay - ECPv6.15.20//NONSGML v1.0//EN
CALSCALE:GREGORIAN
METHOD:PUBLISH
X-WR-CALNAME:SPCA Tampa Bay
X-ORIGINAL-URL:https://spcatampabay.org
X-WR-CALDESC:Events for SPCA Tampa Bay
REFRESH-INTERVAL;VALUE=DURATION:PT1H
X-Robots-Tag:noindex
X-PUBLISHED-TTL:PT1H
BEGIN:VTIMEZONE
TZID:America/New_York
BEGIN:DAYLIGHT
TZOFFSETFROM:-0500
TZOFFSETTO:-0400
TZNAME:EDT
DTSTART:20210314T070000
END:DAYLIGHT
BEGIN:STANDARD
TZOFFSETFROM:-0400
TZOFFSETTO:-0500
TZNAME:EST
DTSTART:20211107T060000
END:STANDARD
BEGIN:DAYLIGHT
TZOFFSETFROM:-0500
TZOFFSETTO:-0400
TZNAME:EDT
DTSTART:20220313T070000
END:DAYLIGHT
BEGIN:STANDARD
TZOFFSETFROM:-0400
TZOFFSETTO:-0500
TZNAME:EST
DTSTART:20221106T060000
END:STANDARD
BEGIN:DAYLIGHT
TZOFFSETFROM:-0500
TZOFFSETTO:-0400
TZNAME:EDT
DTSTART:20230312T070000
END:DAYLIGHT
BEGIN:STANDARD
TZOFFSETFROM:-0400
TZOFFSETTO:-0500
TZNAME:EST
DTSTART:20231105T060000
END:STANDARD
END:VTIMEZONE
BEGIN:VEVENT
DTSTART;TZID=America/New_York:20221107T110000
DTEND;TZID=America/New_York:20221107T160000
DTSTAMP:20260422T220959
CREATED:20221104T140352Z
LAST-MODIFIED:20221104T152133Z
UID:7589-1667818800-1667836800@spcatampabay.org
SUMMARY:OCC Road House Sunday Adoption Event
DESCRIPTION:Bring your pup to OCC Road House for Pet Adoption Sunday\, presented by Fran Haasch! \nJoin us Sunday\, November 6 from 11am-4pm. Festivities will include pet-themed vendors\, local rescues and pet adoptions\, Yappy Hour\, and more! Event will be held the first Sunday of every month.
URL:https://spcatampabay.org/event/7589/
LOCATION:OCC Road House & Museum\, 10575 49th St N\, Clearwater\, FL\, 33762\, United States
ATTACH;FMTTYPE=image/jpeg:https://spcatampabay.org/wp-content/uploads/OCC-Pup-e1667570671272.jpg
END:VEVENT
BEGIN:VEVENT
DTSTART;VALUE=DATE:20221110
DTEND;VALUE=DATE:20221111
DTSTAMP:20260422T220959
CREATED:20221024T131316Z
LAST-MODIFIED:20221024T131551Z
UID:7460-1668038400-1668124799@spcatampabay.org
SUMMARY:SPCA Tampa Bay's Day of Giving
DESCRIPTION:Help Homeless Animals and Baby Wildlife\nJoin SPCA Tampa Bay on Thursday\, November 10 for its annual Day of Giving Telethon (Formerly known as the Paw It Forward Fund Drive). All donations are matched by our sponsors! \nAs a For-All shelter and pet hospital\, thousands of animals pass through our doors each year. Your charitable donation will help us take care of pets and wildlife to make sure they live their best life! 
URL:https://spcatampabay.org/event/spca-tampa-bays-day-of-giving/
LOCATION:FL
ATTACH;FMTTYPE=image/jpeg:https://spcatampabay.org/wp-content/uploads/day-of-giving-chico-facebook.jpg
END:VEVENT
END:VCALENDAR