BEGIN:VCALENDAR
VERSION:2.0
PRODID:-//SPCA Tampa Bay - ECPv6.15.20//NONSGML v1.0//EN
CALSCALE:GREGORIAN
METHOD:PUBLISH
X-WR-CALNAME:SPCA Tampa Bay
X-ORIGINAL-URL:https://spcatampabay.org
X-WR-CALDESC:Events for SPCA Tampa Bay
REFRESH-INTERVAL;VALUE=DURATION:PT1H
X-Robots-Tag:noindex
X-PUBLISHED-TTL:PT1H
BEGIN:VTIMEZONE
TZID:America/New_York
BEGIN:DAYLIGHT
TZOFFSETFROM:-0500
TZOFFSETTO:-0400
TZNAME:EDT
DTSTART:20210314T070000
END:DAYLIGHT
BEGIN:STANDARD
TZOFFSETFROM:-0400
TZOFFSETTO:-0500
TZNAME:EST
DTSTART:20211107T060000
END:STANDARD
BEGIN:DAYLIGHT
TZOFFSETFROM:-0500
TZOFFSETTO:-0400
TZNAME:EDT
DTSTART:20220313T070000
END:DAYLIGHT
BEGIN:STANDARD
TZOFFSETFROM:-0400
TZOFFSETTO:-0500
TZNAME:EST
DTSTART:20221106T060000
END:STANDARD
BEGIN:DAYLIGHT
TZOFFSETFROM:-0500
TZOFFSETTO:-0400
TZNAME:EDT
DTSTART:20230312T070000
END:DAYLIGHT
BEGIN:STANDARD
TZOFFSETFROM:-0400
TZOFFSETTO:-0500
TZNAME:EST
DTSTART:20231105T060000
END:STANDARD
END:VTIMEZONE
BEGIN:VEVENT
DTSTART;TZID=America/New_York:20220605T110000
DTEND;TZID=America/New_York:20220605T160000
DTSTAMP:20260423T050826
CREATED:20220531T192058Z
LAST-MODIFIED:20220531T192557Z
UID:6275-1654426800-1654444800@spcatampabay.org
SUMMARY:OCC Road House Pet Adoption Sunday!
DESCRIPTION:Bring your pet to OCC Road House for Pet Adoption Sunday\, presented by Fran Haasch!\n\nKickoff is this Sunday\, June 5th from 11am-4pm. Festivities will include pet-themed vendors\, raffles\, adoptions\, and a Yappy Hour to benefit SPCA Tampa Bay and other local rescues! \n1pm Florida Weiner Dog Derby\n2-4pm Noah’s Ark Petting Zoo \n 
URL:https://spcatampabay.org/event/occ-road-house-pet-adoption-sunday/
LOCATION:OCC Road House & Museum\, 10575 49th St N\, Clearwater\, FL\, 33762\, United States
END:VEVENT
BEGIN:VEVENT
DTSTART;TZID=America/New_York:20220608T120000
DTEND;TZID=America/New_York:20220608T123000
DTSTAMP:20260423T050826
CREATED:20220602T154838Z
LAST-MODIFIED:20220602T154838Z
UID:6317-1654689600-1654691400@spcatampabay.org
SUMMARY:SPCA Tampa Bay For-All Pawdcast
DESCRIPTION:Join us LIVE Wednesday\, June 8 at NOON for the next For-All Pawdcast! \n  \nOn this episode\, we chat with special guest Amanda Glenn\, one of our Dog Walker Volunteers\, about some of the ways our volunteers care for our long-term resident pups\, learn how the SPCA Tampa Bay Veterinary Center is investing in the next generation of veterinary professionals from our very own Dr. Mitchell\, and meet an amazing SPCA Tampa Bay Ambassador\, Ellen Blakely! \n  \nYou don’t want to miss this exciting episode!
URL:https://spcatampabay.org/event/spca-tampa-bay-for-all-pawdcast-4/
LOCATION:Online Event Location\, FL\, United States
ATTACH;FMTTYPE=image/jpeg:https://spcatampabay.org/wp-content/uploads/Pawdcast-Facebook-Event-Cover-.jpg
END:VEVENT
BEGIN:VEVENT
DTSTART;TZID=America/New_York:20220618T173000
DTEND;TZID=America/New_York:20220618T193000
DTSTAMP:20260423T050826
CREATED:20220609T143644Z
LAST-MODIFIED:20220615T144824Z
UID:6381-1655573400-1655580600@spcatampabay.org
SUMMARY:Rowdies Dog of the Week!
DESCRIPTION:SPCA Tampa Bay is excited to announce we have once again partnered with the Tampa Bay Rowdies to present the “Rowdies Dog of the Week!” \n  \nJoin us on Saturday\, June 18 for our next Rowdies event of the season.  Be sure to stop by the SPCA Tampa Bay tailgate tent to meet Gizmo\, our featured adoptable dog of the week! \n  \nThe Rowdies Dog of the Week and our other adoptable pets are available our shelter in Largo. All pets are vaccinated\, spayed/ neutered\, and microchipped. \n  \nGet your tickets today!
URL:https://spcatampabay.org/event/rowdies-dog-of-the-week/
LOCATION:Al Lang Stadium\, 230 1st St SE\, St. Petersburg\, FL\, 33701\, United States
ATTACH;FMTTYPE=image/jpeg:https://spcatampabay.org/wp-content/uploads/Rowdies-Game-5.21.22-FB-Event-Cover-2.jpg
END:VEVENT
BEGIN:VEVENT
DTSTART;TZID=America/New_York:20220625T140000
DTEND;TZID=America/New_York:20220625T220000
DTSTAMP:20260423T050826
CREATED:20220615T190336Z
LAST-MODIFIED:20220615T190336Z
UID:6486-1656165600-1656194400@spcatampabay.org
SUMMARY:Pride Parade
DESCRIPTION:Join SPCA Tampa Bay at St. Pete Pride Parade Saturday\, June 25 from 2pm-10pm!
URL:https://spcatampabay.org/event/pride-parade/
LOCATION:St. Pete Waterfront
ATTACH;FMTTYPE=image/jpeg:https://spcatampabay.org/wp-content/uploads/Pride-parade.jpg
END:VEVENT
BEGIN:VEVENT
DTSTART;TZID=America/New_York:20220626T110000
DTEND;TZID=America/New_York:20220626T170000
DTSTAMP:20260423T050826
CREATED:20220615T185945Z
LAST-MODIFIED:20220621T183136Z
UID:6478-1656241200-1656262800@spcatampabay.org
SUMMARY:Pride Street Carnival
DESCRIPTION:Join SPCA Tampa Bay at St. Pete Pride Street Carnival Sunday\, June 26 from 11am – 5pm! 
URL:https://spcatampabay.org/event/pride-street-carnival/
LOCATION:Grand Central Disctrict
ATTACH;FMTTYPE=image/png:https://spcatampabay.org/wp-content/uploads/Pride-carnival.png
END:VEVENT
BEGIN:VEVENT
DTSTART;TZID=America/New_York:20220629T120000
DTEND;TZID=America/New_York:20220629T123000
DTSTAMP:20260423T050826
CREATED:20220615T184948Z
LAST-MODIFIED:20220623T143412Z
UID:6476-1656504000-1656505800@spcatampabay.org
SUMMARY:SPCA Tampa Bay For-All Pawdcast
DESCRIPTION:Join us LIVE Wednesday\, June 29 at NOON for the next For-All Pawdcast! \nOn this episode\, we chat with special guest Paul Guzzo of Tampa Bay Times about one of the most famous “dog catchers” of all time\, Colonel Tom Parker \nDr. Schiess from the SPCA Tampa Bay Veterinary Center provides pet safety tips for the summer \nAnd adoptable pup\, Kiko\, shows you how to have some fun in the sun! \nYou don’t want to miss this paw-some episode!
URL:https://spcatampabay.org/event/spca-tampa-bay-for-all-pawdcast-5/
LOCATION:FL
ATTACH;FMTTYPE=image/jpeg:https://spcatampabay.org/wp-content/uploads/Pawdcast-FB-Event-Template-3.jpg
END:VEVENT
END:VCALENDAR