BEGIN:VCALENDAR
VERSION:2.0
PRODID:-//SPCA Tampa Bay - ECPv6.15.20//NONSGML v1.0//EN
CALSCALE:GREGORIAN
METHOD:PUBLISH
X-ORIGINAL-URL:https://spcatampabay.org
X-WR-CALDESC:Events for SPCA Tampa Bay
REFRESH-INTERVAL;VALUE=DURATION:PT1H
X-Robots-Tag:noindex
X-PUBLISHED-TTL:PT1H
BEGIN:VTIMEZONE
TZID:America/New_York
BEGIN:DAYLIGHT
TZOFFSETFROM:-0500
TZOFFSETTO:-0400
TZNAME:EDT
DTSTART:20210314T070000
END:DAYLIGHT
BEGIN:STANDARD
TZOFFSETFROM:-0400
TZOFFSETTO:-0500
TZNAME:EST
DTSTART:20211107T060000
END:STANDARD
BEGIN:DAYLIGHT
TZOFFSETFROM:-0500
TZOFFSETTO:-0400
TZNAME:EDT
DTSTART:20220313T070000
END:DAYLIGHT
BEGIN:STANDARD
TZOFFSETFROM:-0400
TZOFFSETTO:-0500
TZNAME:EST
DTSTART:20221106T060000
END:STANDARD
BEGIN:DAYLIGHT
TZOFFSETFROM:-0500
TZOFFSETTO:-0400
TZNAME:EDT
DTSTART:20230312T070000
END:DAYLIGHT
BEGIN:STANDARD
TZOFFSETFROM:-0400
TZOFFSETTO:-0500
TZNAME:EST
DTSTART:20231105T060000
END:STANDARD
END:VTIMEZONE
BEGIN:VEVENT
DTSTART;TZID=America/New_York:20220402T083000
DTEND;TZID=America/New_York:20220402T113000
DTSTAMP:20260423T084311
CREATED:20220317T181539Z
LAST-MODIFIED:20220404T161903Z
UID:5802-1648888200-1648899000@spcatampabay.org
SUMMARY:Pet Walk 2022
DESCRIPTION:Join us Saturday\, April 2nd for a fun\, 1.8 mile walk along the waterfront in downtown St. Petersburg in North Straub Park. SPCA Tampa Bay is the only non-profit\, animal welfare agency that runs an open-admission for-all animal shelter and veterinary center in Pinellas County. Our shelter in Largo cares for more than 7\,000 animals annually that have been surrendered by their owners\, along with injured wildlife. It’s more than just a Walk\, it’s a community party and we can’t wait to see you there! Register today and walk with hundreds of other animal lovers who believe all pets deserve to be loved! Visit https://p2p.onecause.com/petwalk to get signed up.
URL:https://spcatampabay.org/event/pet-walk-2022/
LOCATION:North Straub Park\, 400 Bayshore Dr NE\, St. Petersburg\, FL\, 33701\, United States
ATTACH;FMTTYPE=image/png:https://spcatampabay.org/wp-content/uploads/spca-logo.png
END:VEVENT
BEGIN:VEVENT
DTSTART;TZID=America/New_York:20220427T120000
DTEND;TZID=America/New_York:20220427T123000
DTSTAMP:20260423T084311
CREATED:20220420T142837Z
LAST-MODIFIED:20220420T142837Z
UID:5990-1651060800-1651062600@spcatampabay.org
SUMMARY:SPCA Tampa Bay For-All Pawdcast
DESCRIPTION:SPCA Tampa Bay is helping to bring timely information to the community with our PAWDcast series. Our animal podcast will be tackling topics around pet safety\, local happenings for pets and their people\, pet health care and more.
URL:https://spcatampabay.org/event/spca-tampa-bay-for-all-pawdcast/
LOCATION:Online Event Location\, FL\, United States
ATTACH;FMTTYPE=image/png:https://spcatampabay.org/wp-content/uploads/Square-Logo-Pawdcast-2022.png
END:VEVENT
END:VCALENDAR