BEGIN:VCALENDAR
VERSION:2.0
PRODID:-//SPCA Tampa Bay - ECPv6.15.20//NONSGML v1.0//EN
CALSCALE:GREGORIAN
METHOD:PUBLISH
X-WR-CALNAME:SPCA Tampa Bay
X-ORIGINAL-URL:https://spcatampabay.org
X-WR-CALDESC:Events for SPCA Tampa Bay
REFRESH-INTERVAL;VALUE=DURATION:PT1H
X-Robots-Tag:noindex
X-PUBLISHED-TTL:PT1H
BEGIN:VTIMEZONE
TZID:America/New_York
BEGIN:DAYLIGHT
TZOFFSETFROM:-0500
TZOFFSETTO:-0400
TZNAME:EDT
DTSTART:20210314T070000
END:DAYLIGHT
BEGIN:STANDARD
TZOFFSETFROM:-0400
TZOFFSETTO:-0500
TZNAME:EST
DTSTART:20211107T060000
END:STANDARD
BEGIN:DAYLIGHT
TZOFFSETFROM:-0500
TZOFFSETTO:-0400
TZNAME:EDT
DTSTART:20220313T070000
END:DAYLIGHT
BEGIN:STANDARD
TZOFFSETFROM:-0400
TZOFFSETTO:-0500
TZNAME:EST
DTSTART:20221106T060000
END:STANDARD
BEGIN:DAYLIGHT
TZOFFSETFROM:-0500
TZOFFSETTO:-0400
TZNAME:EDT
DTSTART:20230312T070000
END:DAYLIGHT
BEGIN:STANDARD
TZOFFSETFROM:-0400
TZOFFSETTO:-0500
TZNAME:EST
DTSTART:20231105T060000
END:STANDARD
END:VTIMEZONE
BEGIN:VEVENT
DTSTART;TZID=America/New_York:20220323T120000
DTEND;TZID=America/New_York:20220323T200000
DTSTAMP:20260423T103710
CREATED:20220317T181037Z
LAST-MODIFIED:20220317T181220Z
UID:5798-1648036800-1648065600@spcatampabay.org
SUMMARY:Mayor Ken Welch LIVE on SPCA Tampa Bay's For-All Pawdcast
DESCRIPTION:Tune in to SPCA Tampa Bay’s live streaming PAWDcast on Wednesday\, March 23 at noon for National Puppy Day! St. Petersburg Mayor Ken Welch will be appearing with his rescue pup Sunni\, the SPCA Tampa Bay team will highlight the process for adopting puppies\, and the Veterinary Center team will discuss puppy preparedness. Don’t miss this special episode\, featuring all things puppy!
URL:https://spcatampabay.org/event/mayor-ken-welch-live-on-spca-tampa-bays-for-all-pawdcast/
LOCATION:Online Event Location\, FL\, United States
ATTACH;FMTTYPE=image/jpeg:https://spcatampabay.org/wp-content/uploads/ILoveTheBurg.jpg
END:VEVENT
END:VCALENDAR