BEGIN:VCALENDAR
VERSION:2.0
PRODID:-//SPCA Tampa Bay - ECPv6.15.20//NONSGML v1.0//EN
CALSCALE:GREGORIAN
METHOD:PUBLISH
X-ORIGINAL-URL:https://spcatampabay.org
X-WR-CALDESC:Events for SPCA Tampa Bay
REFRESH-INTERVAL;VALUE=DURATION:PT1H
X-Robots-Tag:noindex
X-PUBLISHED-TTL:PT1H
BEGIN:VTIMEZONE
TZID:America/New_York
BEGIN:DAYLIGHT
TZOFFSETFROM:-0500
TZOFFSETTO:-0400
TZNAME:EDT
DTSTART:20210314T070000
END:DAYLIGHT
BEGIN:STANDARD
TZOFFSETFROM:-0400
TZOFFSETTO:-0500
TZNAME:EST
DTSTART:20211107T060000
END:STANDARD
BEGIN:DAYLIGHT
TZOFFSETFROM:-0500
TZOFFSETTO:-0400
TZNAME:EDT
DTSTART:20220313T070000
END:DAYLIGHT
BEGIN:STANDARD
TZOFFSETFROM:-0400
TZOFFSETTO:-0500
TZNAME:EST
DTSTART:20221106T060000
END:STANDARD
BEGIN:DAYLIGHT
TZOFFSETFROM:-0500
TZOFFSETTO:-0400
TZNAME:EDT
DTSTART:20230312T070000
END:DAYLIGHT
BEGIN:STANDARD
TZOFFSETFROM:-0400
TZOFFSETTO:-0500
TZNAME:EST
DTSTART:20231105T060000
END:STANDARD
END:VTIMEZONE
BEGIN:VEVENT
DTSTART;TZID=America/New_York:20220713T120000
DTEND;TZID=America/New_York:20220713T123000
DTSTAMP:20260424T025926
CREATED:20220615T190805Z
LAST-MODIFIED:20220615T191027Z
UID:6494-1657713600-1657715400@spcatampabay.org
SUMMARY:SPCA Tampa Bay For-All Pawdcast
DESCRIPTION:Join us LIVE Wednesday\, July 13 at NOON for the next For-All Pawdcast!
URL:https://spcatampabay.org/event/spca-tampa-bay-for-all-pawdcast-6/
CATEGORIES:Pawdcast
ATTACH;FMTTYPE=image/jpeg:https://spcatampabay.org/wp-content/uploads/Pawdcast-Website-Graphic-Presentation-169-1.jpg
END:VEVENT
END:VCALENDAR