BEGIN:VCALENDAR
VERSION:2.0
PRODID:-//SPCA Tampa Bay - ECPv6.15.20//NONSGML v1.0//EN
CALSCALE:GREGORIAN
METHOD:PUBLISH
X-WR-CALNAME:SPCA Tampa Bay
X-ORIGINAL-URL:https://spcatampabay.org
X-WR-CALDESC:Events for SPCA Tampa Bay
REFRESH-INTERVAL;VALUE=DURATION:PT1H
X-Robots-Tag:noindex
X-PUBLISHED-TTL:PT1H
BEGIN:VTIMEZONE
TZID:America/New_York
BEGIN:DAYLIGHT
TZOFFSETFROM:-0500
TZOFFSETTO:-0400
TZNAME:EDT
DTSTART:20210314T070000
END:DAYLIGHT
BEGIN:STANDARD
TZOFFSETFROM:-0400
TZOFFSETTO:-0500
TZNAME:EST
DTSTART:20211107T060000
END:STANDARD
BEGIN:DAYLIGHT
TZOFFSETFROM:-0500
TZOFFSETTO:-0400
TZNAME:EDT
DTSTART:20220313T070000
END:DAYLIGHT
BEGIN:STANDARD
TZOFFSETFROM:-0400
TZOFFSETTO:-0500
TZNAME:EST
DTSTART:20221106T060000
END:STANDARD
BEGIN:DAYLIGHT
TZOFFSETFROM:-0500
TZOFFSETTO:-0400
TZNAME:EDT
DTSTART:20230312T070000
END:DAYLIGHT
BEGIN:STANDARD
TZOFFSETFROM:-0400
TZOFFSETTO:-0500
TZNAME:EST
DTSTART:20231105T060000
END:STANDARD
END:VTIMEZONE
BEGIN:VEVENT
DTSTART;TZID=America/New_York:20220511T120000
DTEND;TZID=America/New_York:20220511T123000
DTSTAMP:20260424T060803
CREATED:20220420T143143Z
LAST-MODIFIED:20220505T155454Z
UID:5884-1652270400-1652272200@spcatampabay.org
SUMMARY:SPCA Tampa Bay For-All Pawdcast
DESCRIPTION:SPCA Tampa Bay is helping to bring timely information to the community with our PAWDcast series. Our animal podcast will be tackling topics around pet safety\, local happenings for pets and their people\, pet health care and more.
URL:https://spcatampabay.org/event/spca-tampa-bay-for-all-pawdcast-2/
LOCATION:Online Event Location\, FL\, United States
CATEGORIES:Pawdcast
ATTACH;FMTTYPE=image/png:https://spcatampabay.org/wp-content/uploads/Square-Logo-Pawdcast-2022.png
END:VEVENT
BEGIN:VEVENT
DTSTART;TZID=America/New_York:20220525T120000
DTEND;TZID=America/New_York:20220525T123000
DTSTAMP:20260424T060803
CREATED:20220420T143350Z
LAST-MODIFIED:20220505T155415Z
UID:5999-1653480000-1653481800@spcatampabay.org
SUMMARY:SPCA Tampa Bay For-All Pawdcast
DESCRIPTION:SPCA Tampa Bay is helping to bring timely information to the community with our PAWDcast series. Our animal podcast will be tackling topics around pet safety\, local happenings for pets and their people\, pet health care and more.
URL:https://spcatampabay.org/event/spca-tampa-bay-for-all-pawdcast-3/
LOCATION:Online Event Location\, FL\, United States
CATEGORIES:Pawdcast
ATTACH;FMTTYPE=image/png:https://spcatampabay.org/wp-content/uploads/Square-Logo-Pawdcast-2022.png
END:VEVENT
END:VCALENDAR